BEGIN:VCALENDAR
VERSION:2.0
PRODID:-//WUNDERbare MÖGLICHkeiten - Online Erlebnisse - ECPv6.15.20//NONSGML v1.0//EN
CALSCALE:GREGORIAN
METHOD:PUBLISH
X-ORIGINAL-URL:https://online-erlebnis.net
X-WR-CALDESC:Veranstaltungen für WUNDERbare MÖGLICHkeiten - Online Erlebnisse
REFRESH-INTERVAL;VALUE=DURATION:PT1H
X-Robots-Tag:noindex
X-PUBLISHED-TTL:PT1H
BEGIN:VTIMEZONE
TZID:Europe/Berlin
BEGIN:DAYLIGHT
TZOFFSETFROM:+0100
TZOFFSETTO:+0200
TZNAME:CEST
DTSTART:20230326T010000
END:DAYLIGHT
BEGIN:STANDARD
TZOFFSETFROM:+0200
TZOFFSETTO:+0100
TZNAME:CET
DTSTART:20231029T010000
END:STANDARD
BEGIN:DAYLIGHT
TZOFFSETFROM:+0100
TZOFFSETTO:+0200
TZNAME:CEST
DTSTART:20240331T010000
END:DAYLIGHT
BEGIN:STANDARD
TZOFFSETFROM:+0200
TZOFFSETTO:+0100
TZNAME:CET
DTSTART:20241027T010000
END:STANDARD
BEGIN:DAYLIGHT
TZOFFSETFROM:+0100
TZOFFSETTO:+0200
TZNAME:CEST
DTSTART:20250330T010000
END:DAYLIGHT
BEGIN:STANDARD
TZOFFSETFROM:+0200
TZOFFSETTO:+0100
TZNAME:CET
DTSTART:20251026T010000
END:STANDARD
END:VTIMEZONE
BEGIN:VEVENT
DTSTART;TZID=Europe/Berlin:20240216T093000
DTEND;TZID=Europe/Berlin:20240216T103000
DTSTAMP:20260421T134158
CREATED:20240131T110926Z
LAST-MODIFIED:20240215T092648Z
UID:10000031-1708075800-1708079400@online-erlebnis.net
SUMMARY:☀️ Die FRÖHLICHE Plauderstunde: Wünsche Werden Wahr. ☀️
DESCRIPTION:Lasse uns fröhlich plaudern! Worüber? Über deine Wünsche und über Wunder. Denn: Wünsche Werden Wahr. Und Wunder auch. Das erlebe ich schon mein ganzes Leben lang. Vielleicht sind sie auf einem anderen Weg wahr geworden\, als von mir erdacht und vielleicht auch ein wenig später\, als gewünscht. Doch sie sind definitiv immer wahr geworden und tun es weiterhin. Hier der direkte Link zum Zoom-Raum: https://us02web.zoom.us/j/89682216039?pwd=TmE4TkdTSU0vaGtzMlk1UmZsSE5hQT09
URL:https://online-erlebnis.net/kalender/die-froehliche-plauderstunde-der-wunderbaren-moeglichkeiten-7/
ORGANIZER;CN="Sabine L%C3%BCers":MAILTO:sl@wunderbare-moeglichkeiten.de
END:VEVENT
END:VCALENDAR