BEGIN:VCALENDAR
VERSION:2.0
PRODID:-//WUNDERbare MÖGLICHkeiten - Online Erlebnisse - ECPv6.15.20//NONSGML v1.0//EN
CALSCALE:GREGORIAN
METHOD:PUBLISH
X-WR-CALNAME:WUNDERbare MÖGLICHkeiten - Online Erlebnisse
X-ORIGINAL-URL:https://online-erlebnis.net
X-WR-CALDESC:Veranstaltungen für WUNDERbare MÖGLICHkeiten - Online Erlebnisse
REFRESH-INTERVAL;VALUE=DURATION:PT1H
X-Robots-Tag:noindex
X-PUBLISHED-TTL:PT1H
BEGIN:VTIMEZONE
TZID:Europe/Berlin
BEGIN:DAYLIGHT
TZOFFSETFROM:+0100
TZOFFSETTO:+0200
TZNAME:CEST
DTSTART:20230326T010000
END:DAYLIGHT
BEGIN:STANDARD
TZOFFSETFROM:+0200
TZOFFSETTO:+0100
TZNAME:CET
DTSTART:20231029T010000
END:STANDARD
BEGIN:DAYLIGHT
TZOFFSETFROM:+0100
TZOFFSETTO:+0200
TZNAME:CEST
DTSTART:20240331T010000
END:DAYLIGHT
BEGIN:STANDARD
TZOFFSETFROM:+0200
TZOFFSETTO:+0100
TZNAME:CET
DTSTART:20241027T010000
END:STANDARD
BEGIN:DAYLIGHT
TZOFFSETFROM:+0100
TZOFFSETTO:+0200
TZNAME:CEST
DTSTART:20250330T010000
END:DAYLIGHT
BEGIN:STANDARD
TZOFFSETFROM:+0200
TZOFFSETTO:+0100
TZNAME:CET
DTSTART:20251026T010000
END:STANDARD
END:VTIMEZONE
BEGIN:VEVENT
DTSTART;TZID=Europe/Berlin:20240517T190000
DTEND;TZID=Europe/Berlin:20240517T200000
DTSTAMP:20260422T152908
CREATED:20240507T162511Z
LAST-MODIFIED:20240517T160533Z
UID:10003370-1715972400-1715976000@online-erlebnis.net
SUMMARY:Selbstbestimmt sein - in jeder Lebensphase
DESCRIPTION:Hallo Ihr Lieben\, \nich bin Stefanie und ich möchte Euch ich in meinem WIRKSHOP zeigen wie Ihr in jeder Lebensphase Selbstbestimmt bleiben könnt.\nEntscheide wer Dich im Fall der Fälle rechtlich\, medizinisch oder finanziell vertreten oder betreuen darf!\nWenn Ihr jetzt neugierig seid… dann kommt in meinen WIRKSHOP am 17.05.2024 um 19.00Uhr. \nDu bist herzlich eingeladen! Du kannst auch einfach nur zuhören. Herzlich(s)t\, Deine Stefanie ❤️ \nLink zum Zoom-Raum https://us02web.zoom.us/j/89682216039 \n 
URL:https://online-erlebnis.net/kalender/selbstbestimmt-sein-in-jeder-lebensphase/
LOCATION:Online Zoom
ATTACH;FMTTYPE=image/jpeg:https://online-erlebnis.net/wp-content/uploads/2024/05/Selbstbestimmt-sein-in-unbestimmten-Lebensphasen.jpg
ORGANIZER;CN="Stefanie Hafenrichter":MAILTO:hafe.steffi@gmail.com
END:VEVENT
END:VCALENDAR