BEGIN:VCALENDAR
VERSION:2.0
PRODID:-//WUNDERbare MÖGLICHkeiten - Online Erlebnisse - ECPv6.15.20//NONSGML v1.0//EN
CALSCALE:GREGORIAN
METHOD:PUBLISH
X-WR-CALNAME:WUNDERbare MÖGLICHkeiten - Online Erlebnisse
X-ORIGINAL-URL:https://online-erlebnis.net
X-WR-CALDESC:Veranstaltungen für WUNDERbare MÖGLICHkeiten - Online Erlebnisse
REFRESH-INTERVAL;VALUE=DURATION:PT1H
X-Robots-Tag:noindex
X-PUBLISHED-TTL:PT1H
BEGIN:VTIMEZONE
TZID:Europe/Berlin
BEGIN:DAYLIGHT
TZOFFSETFROM:+0100
TZOFFSETTO:+0200
TZNAME:CEST
DTSTART:20230326T010000
END:DAYLIGHT
BEGIN:STANDARD
TZOFFSETFROM:+0200
TZOFFSETTO:+0100
TZNAME:CET
DTSTART:20231029T010000
END:STANDARD
BEGIN:DAYLIGHT
TZOFFSETFROM:+0100
TZOFFSETTO:+0200
TZNAME:CEST
DTSTART:20240331T010000
END:DAYLIGHT
BEGIN:STANDARD
TZOFFSETFROM:+0200
TZOFFSETTO:+0100
TZNAME:CET
DTSTART:20241027T010000
END:STANDARD
BEGIN:DAYLIGHT
TZOFFSETFROM:+0100
TZOFFSETTO:+0200
TZNAME:CEST
DTSTART:20250330T010000
END:DAYLIGHT
BEGIN:STANDARD
TZOFFSETFROM:+0200
TZOFFSETTO:+0100
TZNAME:CET
DTSTART:20251026T010000
END:STANDARD
END:VTIMEZONE
BEGIN:VEVENT
DTSTART;TZID=Europe/Berlin:20240521T191900
DTEND;TZID=Europe/Berlin:20240521T202000
DTSTAMP:20260422T164928
CREATED:20240515T061114Z
LAST-MODIFIED:20240520T101605Z
UID:10003106-1716319140-1716322800@online-erlebnis.net
SUMMARY:🌟 Die FRÖHLICHE Plauder Runde mit Gast Kerstin Ackermann: Von der Ärztin zur Medialen Therapeutin 🌟
DESCRIPTION:Einladungs-Video\, einfach anklicken und weiter geht´s in YouTube: Von der Ärztin zur Medialen Therapeutin \nDurch den Verlust 2er geliebter Menschen entstand schon im Teenageralter der Wunsch zu heilen. Doch wie sieht Heilung überhaupt aus\, welche Ausbildungen sind dazu wirklich nötig und was gibt das Leben vor? \nWar mein Weg eher ein Weg zu mir? War ich schon mein Leben lang Mediale Therapeutin und hieß es einfach nur dies endlich zu leben? \nEgal was das Außen sagt\, egal was für Widerstände mir begegnen? \nWas es brauchte\, um jetzt Mediale Therapeutin zu sein\, erfährst Du in unserer Fröhlichen Plauderrunde. \nFreu dich drauf! Lasse uns gemeinsam fröhlich plaudern und die Begeisterung 🔥 und Freude 😊 unseres eingeladenen Gastes spüren und mit der Welt teilen! \nHier geht´s mit einem Klick direkt in den Zoom-Raum: Klick!
URL:https://online-erlebnis.net/kalender/die-froehliche-plauderstunde-mit-kerstin-ackermann/
LOCATION:Online Zoom
CATEGORIES:Die Fröhliche Plauder Runde mit Gast
ATTACH;FMTTYPE=image/png:https://online-erlebnis.net/wp-content/uploads/2024/05/Die-Froehliche-Plauder-Runde-mit-Kerstin-Ackermann.png
ORGANIZER;CN="Sabine L%C3%BCers":MAILTO:sl@wunderbare-moeglichkeiten.de
END:VEVENT
END:VCALENDAR