BEGIN:VCALENDAR
VERSION:2.0
PRODID:-//WUNDERbare MÖGLICHkeiten - Online Erlebnisse - ECPv6.15.20//NONSGML v1.0//EN
CALSCALE:GREGORIAN
METHOD:PUBLISH
X-ORIGINAL-URL:https://online-erlebnis.net
X-WR-CALDESC:Veranstaltungen für WUNDERbare MÖGLICHkeiten - Online Erlebnisse
REFRESH-INTERVAL;VALUE=DURATION:PT1H
X-Robots-Tag:noindex
X-PUBLISHED-TTL:PT1H
BEGIN:VTIMEZONE
TZID:Europe/Berlin
BEGIN:DAYLIGHT
TZOFFSETFROM:+0100
TZOFFSETTO:+0200
TZNAME:CEST
DTSTART:20230326T010000
END:DAYLIGHT
BEGIN:STANDARD
TZOFFSETFROM:+0200
TZOFFSETTO:+0100
TZNAME:CET
DTSTART:20231029T010000
END:STANDARD
BEGIN:DAYLIGHT
TZOFFSETFROM:+0100
TZOFFSETTO:+0200
TZNAME:CEST
DTSTART:20240331T010000
END:DAYLIGHT
BEGIN:STANDARD
TZOFFSETFROM:+0200
TZOFFSETTO:+0100
TZNAME:CET
DTSTART:20241027T010000
END:STANDARD
BEGIN:DAYLIGHT
TZOFFSETFROM:+0100
TZOFFSETTO:+0200
TZNAME:CEST
DTSTART:20250330T010000
END:DAYLIGHT
BEGIN:STANDARD
TZOFFSETFROM:+0200
TZOFFSETTO:+0100
TZNAME:CET
DTSTART:20251026T010000
END:STANDARD
END:VTIMEZONE
BEGIN:VEVENT
DTSTART;TZID=Europe/Berlin:20240903T190000
DTEND;TZID=Europe/Berlin:20240903T200000
DTSTAMP:20260422T185054
CREATED:20240811T153724Z
LAST-MODIFIED:20240831T073648Z
UID:10005698-1725390000-1725393600@online-erlebnis.net
SUMMARY:Bühne FREI! Die Fröhliche Plauder Runde über menschlich individuelle Ernährung mit Bettina Stark - Wunder Werden Wahr
DESCRIPTION:Wunder Werden Wahr. Das hat auch Bettina Stark selbst schon erfahren. Unsere Einladung für dich: https://youtu.be/AemYVMn11zY?si=gN4YBjYa-CFCGz9X Bühne FREI! \nWer einmal gelernt hat\, was es für ihn bedeutet\, richtig zu essen und sich nach seinen individuellen Bedürfnissen gezielt bewegt\, der wird erst kurzfristig seinen grobstofflichen Körper heilen\, und langfristig seine Zellen verjüngen und damit seinen Geist und die Seele befreien. Bettina brennt für menschlich individuelle Ernährung und hat reichlich Erfahrung damit. \nFühl dich FREI und sei dabei! Hier geht´s mit einem Klick direkt in den Zoom-Raum: Klick!
URL:https://online-erlebnis.net/kalender/buehne-frei-die-froehliche-plauder-runde-mit-bettina-stark-wunder-werden-wahr/
LOCATION:Online Zoom
CATEGORIES:Die Fröhliche Plauder Runde mit Gast
ORGANIZER;CN="Sabine L%C3%BCers":MAILTO:sl@wunderbare-moeglichkeiten.de
END:VEVENT
END:VCALENDAR