BEGIN:VCALENDAR
VERSION:2.0
PRODID:-//WUNDERbare MÖGLICHkeiten - Online Erlebnisse - ECPv6.15.20//NONSGML v1.0//EN
CALSCALE:GREGORIAN
METHOD:PUBLISH
X-WR-CALNAME:WUNDERbare MÖGLICHkeiten - Online Erlebnisse
X-ORIGINAL-URL:https://online-erlebnis.net
X-WR-CALDESC:Veranstaltungen für WUNDERbare MÖGLICHkeiten - Online Erlebnisse
REFRESH-INTERVAL;VALUE=DURATION:PT1H
X-Robots-Tag:noindex
X-PUBLISHED-TTL:PT1H
BEGIN:VTIMEZONE
TZID:Europe/Berlin
BEGIN:DAYLIGHT
TZOFFSETFROM:+0100
TZOFFSETTO:+0200
TZNAME:CEST
DTSTART:20240331T010000
END:DAYLIGHT
BEGIN:STANDARD
TZOFFSETFROM:+0200
TZOFFSETTO:+0100
TZNAME:CET
DTSTART:20241027T010000
END:STANDARD
BEGIN:DAYLIGHT
TZOFFSETFROM:+0100
TZOFFSETTO:+0200
TZNAME:CEST
DTSTART:20250330T010000
END:DAYLIGHT
BEGIN:STANDARD
TZOFFSETFROM:+0200
TZOFFSETTO:+0100
TZNAME:CET
DTSTART:20251026T010000
END:STANDARD
BEGIN:DAYLIGHT
TZOFFSETFROM:+0100
TZOFFSETTO:+0200
TZNAME:CEST
DTSTART:20260329T010000
END:DAYLIGHT
BEGIN:STANDARD
TZOFFSETFROM:+0200
TZOFFSETTO:+0100
TZNAME:CET
DTSTART:20261025T010000
END:STANDARD
END:VTIMEZONE
BEGIN:VEVENT
DTSTART;TZID=Europe/Berlin:20250415T190000
DTEND;TZID=Europe/Berlin:20250415T200000
DTSTAMP:20260425T125148
CREATED:20250415T130622Z
LAST-MODIFIED:20250415T131406Z
UID:10006664-1744743600-1744747200@online-erlebnis.net
SUMMARY:Bühne FREI! Für DICH? Plaudere heute fröhlich mit mir\, um für dich Antworten zu finden!
DESCRIPTION:Verzeih! Die heutige Fröhliche Plauder Runde ist verschoben. Wir sehen uns wieder am 29. März 2025 um 19:00 Uhr. Trage dich als Zuschauer oder als Gast am besten hier ein: https://wunderbare-moeglichkeiten.de/froehliche-plauder-runde Du bekomst dann vor der nächsten Fröhlichen Plauder Runde eine herzliche E-Mail als Erinnerung mit dem Teilnahmelink für Zoom. Du bist immer ganz herzlich will-kommen. Und vielleicht willst du ja auch mal Gast sein? \nWir bieten dir an\, mit uns deinen Weg zu gehen. Sei dabei und mach dich frei von all dem\, was du nicht mehr willst! Und bringe am besten das in die Welt\, was du von ganzem Herzen liebst! \nWelche Wünsche hast du\, die du wahr werden lassen willst? Denn Herzens-Wünsche\, die du dir selbst erfüllst\, sind die Wunder in deinem Leben. In meinem auch. Sobald du beginnst\, diesen Weg zu gehen\, fügen sich die Puzzlesteine mehr und mehr zu einem ganzem Bild zusammen. \nDu bist von ganzem Herzen eingeladen\, Teil des großen Ganzen zu sein und aktiv mitzuwirken. \nDeine Sabine Lüers
URL:https://online-erlebnis.net/kalender/buehne-frei-fuer-dich-die-froehliche-plauder-runde-mit-gast-4/
LOCATION:Online Zoom
ATTACH;FMTTYPE=image/png:https://online-erlebnis.net/wp-content/uploads/2025/02/Buehne-FREI_Deine-Vision-verdient-Erfolg1.png
ORGANIZER;CN="Sabine L%C3%BCers":MAILTO:sl@wunderbare-moeglichkeiten.de
END:VEVENT
END:VCALENDAR