BEGIN:VCALENDAR
VERSION:2.0
PRODID:-//WUNDERbare MÖGLICHkeiten - Online Erlebnisse - ECPv6.15.20//NONSGML v1.0//EN
CALSCALE:GREGORIAN
METHOD:PUBLISH
X-WR-CALNAME:WUNDERbare MÖGLICHkeiten - Online Erlebnisse
X-ORIGINAL-URL:https://online-erlebnis.net
X-WR-CALDESC:Veranstaltungen für WUNDERbare MÖGLICHkeiten - Online Erlebnisse
REFRESH-INTERVAL;VALUE=DURATION:PT1H
X-Robots-Tag:noindex
X-PUBLISHED-TTL:PT1H
BEGIN:VTIMEZONE
TZID:Europe/Berlin
BEGIN:DAYLIGHT
TZOFFSETFROM:+0100
TZOFFSETTO:+0200
TZNAME:CEST
DTSTART:20230326T010000
END:DAYLIGHT
BEGIN:STANDARD
TZOFFSETFROM:+0200
TZOFFSETTO:+0100
TZNAME:CET
DTSTART:20231029T010000
END:STANDARD
BEGIN:DAYLIGHT
TZOFFSETFROM:+0100
TZOFFSETTO:+0200
TZNAME:CEST
DTSTART:20240331T010000
END:DAYLIGHT
BEGIN:STANDARD
TZOFFSETFROM:+0200
TZOFFSETTO:+0100
TZNAME:CET
DTSTART:20241027T010000
END:STANDARD
BEGIN:DAYLIGHT
TZOFFSETFROM:+0100
TZOFFSETTO:+0200
TZNAME:CEST
DTSTART:20250330T010000
END:DAYLIGHT
BEGIN:STANDARD
TZOFFSETFROM:+0200
TZOFFSETTO:+0100
TZNAME:CET
DTSTART:20251026T010000
END:STANDARD
END:VTIMEZONE
BEGIN:VEVENT
DTSTART;TZID=Europe/Berlin:20240401T194500
DTEND;TZID=Europe/Berlin:20240401T201500
DTSTAMP:20260422T170700
CREATED:20240323T095941Z
LAST-MODIFIED:20240401T171532Z
UID:10001780-1712000700-1712002500@online-erlebnis.net
SUMMARY:⏰ 30 Minuten Ping Pong ❓ Frage & Antwort in Telegram
DESCRIPTION:Herzliche Einladung in unsere Telegram-Gruppe 👉🏻 Community mit Herz ❤️ mit WUNDERbaren MÖGLICHkeiten & SCHWARMwissen. Ein neues und kurzweiliges Format ist entstanden. Du stellst mir eine Frage. Ich gebe dir eine Antwort.❤️ Sei gerne Teil unserer Community mit Herz https://t.me/communitymitherz. Diese Einladung gilt wöchentlich an verschiedenen Tagen und verschiedenen Uhrzeiten. Du findest uns dann im Live-Chat in der Community mit Herz. Tritt einfach in unsere Mitte und sei Teil des Ganzen: https://t.me/communitymitherz \nLink zum Video-Live-Chat\, einfach klicken: https://t.me/communitymitherz?videochat=bac76e5d75a8f3591f \n 
URL:https://online-erlebnis.net/kalender/%e2%8f%b0-30-minuten-ping-pong-%e2%9d%93-frage-antwort/
END:VEVENT
BEGIN:VEVENT
DTSTART;TZID=Europe/Berlin:20240402T190000
DTEND;TZID=Europe/Berlin:20240402T200000
DTSTAMP:20260422T170700
CREATED:20240329T104142Z
LAST-MODIFIED:20240402T170942Z
UID:10001223-1712084400-1712088000@online-erlebnis.net
SUMMARY:Selbstbestimmt sein - in unbestimmten Lebensphasen
DESCRIPTION:Hallo Ihr Lieben\, \nich bin Stefanie und Euch allen\, die es interessant finden\, möchte ich in meinem WIRKSHOP zeigen wie Ihr in jeder Lebensphase Selbstbestimmt bleiben  könnt. Ich freue mich sehr auf Euch…bis zum 02.04.2024 um 19.00Uhr. \nDu bist herzlich eingeladen! Du kannst auch einfach nur zuhören.  Herzlich(s)t\, deine Stefanie ❤️ Bitte Überschrift anklicken und dann den Link zum Zoom-Raum. \nZum Zoom-Raum: https://us02web.zoom.us/j/89682216039?pwd=TmE4TkdTSU0vaGtzMlk1UmZsSE5hQT09
URL:https://online-erlebnis.net/kalender/selbstbestimmt-sein-in-unbestimmten-lebensphasen-2/
ATTACH;FMTTYPE=image/png:https://online-erlebnis.net/wp-content/uploads/2024/03/Veranstaltung.png
END:VEVENT
BEGIN:VEVENT
DTSTART;TZID=Europe/Berlin:20240408T190000
DTEND;TZID=Europe/Berlin:20240408T193000
DTSTAMP:20260422T170700
CREATED:20240403T063101Z
LAST-MODIFIED:20240403T080613Z
UID:10001786-1712602800-1712604600@online-erlebnis.net
SUMMARY:Die Magie deines Lachens
DESCRIPTION:Für alle\, die ihre Lebensfreude steigern und positive Energie in ihrem Alltag integrieren möchten:\nLachyoga lässt dich wieder lebendig und energiegeladen erscheinen\, und fördert deine allgemeine Lebensfreude und positive Ausstrahlung.\nIn der der Lach- Zeit gebe ich dir daher wertvolle und einfache Übungen für den Alltag an den Hand\, mit denen du schnell Stress reduzierst\, in ein positives Gefühl kommst und Energie tankst. \nDu hast genug von tristen Tagen\, Zweifeln und Niedergeschlagenheit?\nOder du möchtest einfach etwas mehr Spaß und Kreativität in deinen Alltag lassen? \nDann bist du bei der Lach- Zeit goldrichtig!
URL:https://online-erlebnis.net/kalender/die-magie-deines-lachens/2024-04-08/
LOCATION:Online Zoom
ATTACH;FMTTYPE=image/jpeg:https://online-erlebnis.net/wp-content/uploads/2024/02/Lachyoga.jpg
ORGANIZER;CN="Junia Gutjahr":MAILTO:Junia-Gutjahr@web.de
END:VEVENT
BEGIN:VEVENT
DTSTART;TZID=Europe/Berlin:20240409T190000
DTEND;TZID=Europe/Berlin:20240409T193000
DTSTAMP:20260422T170700
CREATED:20240403T063101Z
LAST-MODIFIED:20240403T080613Z
UID:10001787-1712689200-1712691000@online-erlebnis.net
SUMMARY:Die Magie deines Lachens
DESCRIPTION:Für alle\, die ihre Lebensfreude steigern und positive Energie in ihrem Alltag integrieren möchten:\nLachyoga lässt dich wieder lebendig und energiegeladen erscheinen\, und fördert deine allgemeine Lebensfreude und positive Ausstrahlung.\nIn der der Lach- Zeit gebe ich dir daher wertvolle und einfache Übungen für den Alltag an den Hand\, mit denen du schnell Stress reduzierst\, in ein positives Gefühl kommst und Energie tankst. \nDu hast genug von tristen Tagen\, Zweifeln und Niedergeschlagenheit?\nOder du möchtest einfach etwas mehr Spaß und Kreativität in deinen Alltag lassen? \nDann bist du bei der Lach- Zeit goldrichtig!
URL:https://online-erlebnis.net/kalender/die-magie-deines-lachens/2024-04-09/
LOCATION:Online Zoom
ATTACH;FMTTYPE=image/jpeg:https://online-erlebnis.net/wp-content/uploads/2024/02/Lachyoga.jpg
ORGANIZER;CN="Junia Gutjahr":MAILTO:Junia-Gutjahr@web.de
END:VEVENT
BEGIN:VEVENT
DTSTART;TZID=Europe/Berlin:20240409T190000
DTEND;TZID=Europe/Berlin:20240409T200000
DTSTAMP:20260422T170700
CREATED:20240131T112030Z
LAST-MODIFIED:20240319T125349Z
UID:10000035-1712689200-1712692800@online-erlebnis.net
SUMMARY:🌟 Die FRÖHLICHE Plauder Runde mit Inge Fischer als Gast: Das Leben kann so leicht sein 🌟
DESCRIPTION:Das Leben kann so leicht sein\, wenn du es dir erlaubst. Davon ist Inge überzeugt. Gemeinsam wollen wir herausfinden\, wie wir uns das Leben leichter machen dürfen. Gerne teilt sie ihre selbst erprobten Tipps\, mit schwierigen Situationen umzugehen. Lasst uns zusammen plaudern\, wie wir es schaffen\, uns einfach wieder in eine freudige Schwingung zu bringen. \nDafür gehen wir auf die Reise und betrachten das Auf und Ab in unserem Leben. Lasst uns zusammen ein paar einfache Übungen aus dem Lachyoga ausprobieren. So können wir selbst erspüren\, was es bedeutet\, uns wichtig zu nehmen und gut zu uns zu sein. \nFreu dich drauf\, dich mit Inge gemeinsam fröhlich neu zu ent-decken.🔥 Hier geht´s mit einem Klick direkt in den Zoom-Raum: Klick!
URL:https://online-erlebnis.net/kalender/die-froehliche-plauderstunde-der-wunderbaren-moeglichkeiten-11/
ORGANIZER;CN="Sabine L%C3%BCers":MAILTO:sl@wunderbare-moeglichkeiten.de
END:VEVENT
BEGIN:VEVENT
DTSTART;TZID=Europe/Berlin:20240410T190000
DTEND;TZID=Europe/Berlin:20240410T193000
DTSTAMP:20260422T170700
CREATED:20240403T063101Z
LAST-MODIFIED:20240403T080613Z
UID:10001788-1712775600-1712777400@online-erlebnis.net
SUMMARY:Die Magie deines Lachens
DESCRIPTION:Für alle\, die ihre Lebensfreude steigern und positive Energie in ihrem Alltag integrieren möchten:\nLachyoga lässt dich wieder lebendig und energiegeladen erscheinen\, und fördert deine allgemeine Lebensfreude und positive Ausstrahlung.\nIn der der Lach- Zeit gebe ich dir daher wertvolle und einfache Übungen für den Alltag an den Hand\, mit denen du schnell Stress reduzierst\, in ein positives Gefühl kommst und Energie tankst. \nDu hast genug von tristen Tagen\, Zweifeln und Niedergeschlagenheit?\nOder du möchtest einfach etwas mehr Spaß und Kreativität in deinen Alltag lassen? \nDann bist du bei der Lach- Zeit goldrichtig!
URL:https://online-erlebnis.net/kalender/die-magie-deines-lachens/2024-04-10/
LOCATION:Online Zoom
ATTACH;FMTTYPE=image/jpeg:https://online-erlebnis.net/wp-content/uploads/2024/02/Lachyoga.jpg
ORGANIZER;CN="Junia Gutjahr":MAILTO:Junia-Gutjahr@web.de
END:VEVENT
BEGIN:VEVENT
DTSTART;TZID=Europe/Berlin:20240410T190000
DTEND;TZID=Europe/Berlin:20240410T200000
DTSTAMP:20260422T170700
CREATED:20240318T154131Z
LAST-MODIFIED:20240318T154131Z
UID:10001253-1712775600-1712779200@online-erlebnis.net
SUMMARY:WUNDERvoller HERZensRAUM (Ein Kurs in Wundern)
DESCRIPTION:Wolltet ihr schon lange mal in das Buch „Ein Kurs in Wundern“ tiefer eintauchen? Wir teilen unsere Erfahrungen damit\, in diesem Raum\, ganz praxisnah. \nEinladung zum Wunder Wirkshop. Am 10. April um 19:00 treffen wir uns im WUNDERvollen Herzensraum\, um gemeinsam zu lernen\, die Stimme Gottes zu hören\, bzw. unser Bewusstsein zu schärfen\, damit wir immer mehr unserer inneren Stimme vertrauen\, die in „EIN KURS IN WUNDERN“ GOTT bzw. Heiliger Geist\, die Stimme Gottes\, genannt wird. Wir haben die Wahl\, die Welt als bedrohlich zu betrachten oder stattdessen die Liebe (GOTT\, Bewusstsein) zu wählen und uns von Angst und Zweifel zu befreien. \nWir öffnen unsere Herzen und unseren Zoom Raum für euch am Mittwoch\, den 10. April um 19:00 Uhr. \nhttps://us06web.zoom.us/j/81222063427 \nMeeting-ID: 812 2206 3427\nKenncode: 346223
URL:https://online-erlebnis.net/kalender/wundervoller-herzensraum-ein-kurs-in-wundern-4/
LOCATION:Online Zoom
ATTACH;FMTTYPE=image/jpeg:https://online-erlebnis.net/wp-content/uploads/2024/02/WUNDERvoller-HERZensRAUM_Bild-WuMoe.jpg
ORGANIZER;CN="Petra & Ute - Ein Kurs in Wundern":MAILTO:erinneredich@mail.com
END:VEVENT
BEGIN:VEVENT
DTSTART;TZID=Europe/Berlin:20240415T191900
DTEND;TZID=Europe/Berlin:20240415T202000
DTSTAMP:20260422T170700
CREATED:20241119T194355Z
LAST-MODIFIED:20241119T194448Z
UID:10006546-1713208740-1713212400@online-erlebnis.net
SUMMARY:MandalaVITA 🌸 Reading Live
DESCRIPTION:Dieses MandalaVITA🌸Reading ist ungewöhnlich anders  und wurde von Jana aus all ihren vielseitigen Erfahrungen als Kreativ- und Körpertherapeutin kreiert. Hast du Lust auf Leichtigkeit\, auf Herzlichkeit\, mehr Liebe und Dankbarkeit für dich (und die Welt) ? \nDas MandalaVITA🌸Reading zeigt dir deine Ressourcen auf und ist auf die volle Entfaltung deiner Persönlichkeit auf ganzheitlicher Ebene von Körper\, Geist und Seele ausgerichtet\, um deinen inneren Frieden zu finden. Nach der Lesung kann ein Heil-& Kraftmandala aus deinen aktuellen Seelenfarben entstehen. \nErlebe in diesem Wirkshop live mit dem MandalaVITA🌸Reading\n*wie du leicht\, einfach und spielerisch mit deinem Unterbewusstsein sofort in Kontakt kommst\n*wie du deine Farben und Formen findest und was sie für dich bedeuten\n*was sich als deine aktuelle Herausforderung auf unbewusster und bewusster Ebene zeigt\n*wie du mit deinen unbewusst wirkenden Lebensthemen sofort in deine liebevolle Transformation eintauchen kannst \nWenn du Lust hast\, dieses Reading zu empfangen\, so bewirb dich gerne bei Jana. \nkontakt@janabartenstein.de\nTelegram: https://t.me/mandalaVITA \nLink zur Veranstaltung ZOOM hier –>>
URL:https://online-erlebnis.net/kalender/mandalavita-%f0%9f%8c%b8-reading-live-3/2024-04-15/
END:VEVENT
BEGIN:VEVENT
DTSTART;TZID=Europe/Berlin:20240417T194500
DTEND;TZID=Europe/Berlin:20240417T201500
DTSTAMP:20260422T170700
CREATED:20240323T100118Z
LAST-MODIFIED:20240415T125604Z
UID:10001781-1713383100-1713384900@online-erlebnis.net
SUMMARY:⏰ 30 Minuten Ping Pong ❓ Frage & Antwort zur Community mit ❤️ in der Community in Telegram
DESCRIPTION:LIVE-Videochat: Herzliche Einladung in unsere Telegram-Gruppe 👉🏻 Community mit Herz ❤️ mit WUNDERbaren MÖGLICHkeiten & SCHWARMwissen. Ein neues und kurzweiliges Format ist entstanden. Du stellst mir eine Frage. Ich gebe dir eine Antwort.❤️ Sei gerne Teil unserer Community mit Herz https://t.me/communitymitherz. Diese Einladung gilt wöchentlich an verschiedenen Tagen und verschiedenen Uhrzeiten. Tritt einfach in unsere Mitte und sei Teil des Ganzen: https://t.me/communitymitherz \n 
URL:https://online-erlebnis.net/kalender/ping-pong_cmh_frage-antwort-2/
ATTACH;FMTTYPE=image/png:https://online-erlebnis.net/wp-content/uploads/2024/03/PING-PONG-QA-1.png
END:VEVENT
BEGIN:VEVENT
DTSTART;TZID=Europe/Berlin:20240419T201500
DTEND;TZID=Europe/Berlin:20240419T211500
DTSTAMP:20260422T170700
CREATED:20240409T160041Z
LAST-MODIFIED:20240418T104718Z
UID:10002270-1713557700-1713561300@online-erlebnis.net
SUMMARY:🌟 Die Fröhliche Plauder Runde mit Psychotherapeutin Sarah Oberheinricher als Gast 🌟
DESCRIPTION:Freu dich drauf! Lasse uns gemeinsam fröhlich plaudern und die Begeisterung 🔥 und Freude 😊 unseres eingeladenen Gastes\, Sarah Oberheinricher\, spüren und mit der Welt teilen! Hier geht´s mit einem Klick direkt in den Zoom-Raum: Klick! \nSarah schreibt:: \nHallo ❤️ Mein Name ist Sarah Oberheinricher\, Mütter zweier Kinder und wohne in Südtirol. \nZur Zeit bin ich als Psychotherapeutin tätig und habe mich seit jeher mit Persönlichkeits- und Bewusstseinsentwicklung beschäftigt. Ich biete nun erstmals ein Online-Coachingsprogramm an\, welches jetzt gerade für Frauen bestimmt ist. \nGoddes Creation: Die 5 Schritte in die Freiheit- Lebe dein wahres Selbst. \nEs ist ein Coaching\, welches die Frauen wieder an ihre Intuition ankoppelt. Spass\, Glück\, Freude erleben – sich von orgiastischer\, ekstatischer  Energie durchfluten zu lassen und Schritt für Schritt die eigene Uressenz zu gehen stehen im Mittelpunkt vom Programm- sowie sich das eigenen Leben nach eigenen Vorstellungen zu manifestieren. Dazu lernen wir diese 5 Schritte\, welche morgens und abends angewandt werden! \nIch freue mich auf die fröhliche Plauderrunde mit euch!\nAlles Liebe\nSarah ❤️ \nHier geht´s mit einem Klick direkt in den Zoom-Raum: Klick!
URL:https://online-erlebnis.net/kalender/die-froehliche-plauder-runde-mit-gast-2/
LOCATION:Online Zoom
ATTACH;FMTTYPE=image/png:https://online-erlebnis.net/wp-content/uploads/2024/04/Die-Froehliche-Plauder-Runde-mit-Sarah-Oberheinricher.png
ORGANIZER;CN="Sabine L%C3%BCers":MAILTO:sl@wunderbare-moeglichkeiten.de
END:VEVENT
BEGIN:VEVENT
DTSTART;TZID=Europe/Berlin:20240422T181800
DTEND;TZID=Europe/Berlin:20240422T191900
DTSTAMP:20260422T170700
CREATED:20240131T112114Z
LAST-MODIFIED:20240420T072014Z
UID:10000036-1713809880-1713813540@online-erlebnis.net
SUMMARY:🌟 Die FRÖHLICHE Plauder Runde mit Gast Tanja Liesendahl als Kongressveranstalterin
DESCRIPTION:Mein Name ist Tanja Liesendahl. Ich bin Mama von 3 zauberhaften jungen Menschen\, SeelenWegMentorin und zum ersten Mal Kongressveranstalterin.  \nDie Vielfalt des Lebens hat mich durch einige Krisen und Herausforderungen geschickt\, an denen ich jedes Mal weiter wachsen und mich entwickeln durfte. Und heute darf ich all meine Erfahrungen\, Fähigkeiten und Wissen als SeelenWegMentorin an dich weiter geben. Hier geht´s mit einem Klick direkt in den Zoom-Raum: Klick! \nMit dieser BeRufung begleite ich Menschen dabei\, dass sie sich selbst wieder finden\, ihre Seelenvision erleben und spüren und diese (Visionen) in ein erfülltes\, glückliches Leben umsetzen. \nIch liebe \n\nMenschen in ihr wahres Potenzial\, auf ihrem SeelenWeg zu begleiten\,\nMenschen durch mein Strahlen zu inspirieren.\ndie Natur\, Yoga\, Tanz\, Musik\,\nalles was natürlich ist\n\nFreu dich drauf! Lasse uns gemeinsam fröhlich plaudern und die Begeisterung 🔥 und Freude 😊 unseres eingeladenen Gastes spüren und mit der Welt teilen! Hier geht´s mit einem Klick direkt in den Zoom-Raum: Klick!
URL:https://online-erlebnis.net/kalender/die-froehliche-plauderstunde/
LOCATION:Online Zoom
CATEGORIES:Die Fröhliche Plauder Runde mit Gast
ATTACH;FMTTYPE=image/png:https://online-erlebnis.net/wp-content/uploads/2024/01/Die-Froehliche-Plauder-Runde-mit-Tanja-Liesendahl_Foto.png
ORGANIZER;CN="Sabine L%C3%BCers":MAILTO:sl@wunderbare-moeglichkeiten.de
END:VEVENT
BEGIN:VEVENT
DTSTART;TZID=Europe/Berlin:20240422T182500
DTEND;TZID=Europe/Berlin:20240422T185500
DTSTAMP:20260422T170700
CREATED:20240409T193833Z
LAST-MODIFIED:20240701T103115Z
UID:10002298-1713810300-1713812100@online-erlebnis.net
SUMMARY:Feier-Abend-Lach-Club
DESCRIPTION:Ich schenke allen Menschen\, die einfach mal ein Lachen und Zeit zum Durchatmen brauchen\, das kostenlose  \nwertvolle Feier-Abend-Lachen jeden Montag. \nEntdecke die Freude und Leichtigkeit beim Lachyoga. Tauche ein in eine Zeit voller Lachen\, Entspannung und positiver Energie. \nPerfekt für alle\, die Stress abbauen\, ihre Stimmung heben und ihr Wohlbefinden steigern möchten. \nDer Lach-Beitrag ist kostenfrei – jeder soll mit lachen. \nHier der Link zum Feier-Abend-Lach-Club jeden Montag 18.25 bis 18.55 Uhr \nhttps://us06web.zoom.us/j/87082941601?pwd=R9bbbZnP7hUPObBaEfwf4lIXTWve59.1 \nSei dabei und erlebe\, wie dein Leben leichter wird\, durch regelmäßige Praxis wirkt es besonders. \nIch freue mich auf euch\, Junia
URL:https://online-erlebnis.net/kalender/feier-abend-lach-chlub/2024-04-22/
ATTACH;FMTTYPE=image/jpeg:https://online-erlebnis.net/wp-content/uploads/2024/04/photo_2024-04-18_14-11-05.jpg
ORGANIZER;CN="Junia Gutjahr":MAILTO:Junia-Gutjahr@web.de
END:VEVENT
BEGIN:VEVENT
DTSTART;TZID=Europe/Berlin:20240422T193000
DTEND;TZID=Europe/Berlin:20240422T203000
DTSTAMP:20260422T170700
CREATED:20240219T091454Z
LAST-MODIFIED:20240307T101509Z
UID:10001204-1713814200-1713817800@online-erlebnis.net
SUMMARY:Gabrieles & Utes HERZensRAUM
DESCRIPTION:Der Herzensraum öffnet wieder seine Türen am Montag\, 22.04.2024 um 19:30 bis 20:30 Uhr. Dieser Raum ist ein geschützter Begegnungs- und Heilungsraum. Wir laden dich ein\, mit uns das zu teilen\, was gerade da ist und gesprochen werden will. Du kannst auch gern nur zuhören. In diesem Raum wird nichts bewertet\, es gibt keine guten Ratschläge (außer du willst es)\, alles darf da sein. Die Teilnahme ist gratis. \nEs geht um echtes\, wahrhaftiges Zeigen all dessen\, was gerade in uns los ist. \nWie Trennung\, Verurteilung und Schuldzuweisung geht\, haben wir in Perfektion geübt. Raus aus den alten Schuhen. Unser Herzenswunsch ist es\, zu üben\, wie Verbundenheit\, Gleichwertigkeit und Unschuld gelebt wird. Wir sind alle Anfänger und es bedarf ein bisschen Übung\, weil wir bisher so völlig anders miteinander umgegangen sind. Es ist Zeit dafür\, umzukehren\, zum liebevollen Weg. \nWie wäre es\, wenn jeden Moment das\, was aus uns raus will\, ausgedrückt werden darf\, wenn da Menschen wären\, die den Raum halten für jedes Gefühl\, was gerade da ist\, in dem Vertrauen\, dass gerade das für dich und die anderen heilsam ist. Hier geht es vor allem um die Gefühle\, die in unserer Kindheit nicht da sein durften (Wut\, Trotz\, Scham\, Schuld). \nBefreie deinen heilen Kern\, Schicht für Schicht. \nGerne nehmen wir Themen auf\, über die ihr euch austauschen wollt. \nWenn du Struktur und Konzept erwartest\, ist das möglicherweise nicht der richtige Raum für dich. Uns geht es darum\, gemeinsam mit euch etwas Neues zu erschaffen\, indem jeder sich einbringt\, mit dem\, was er zu geben hat. Ein lockerer\, ungezwungener Austausch über das\, was uns gerade bewegt\, ist uns wichtig. \nKomm\, wie du bist. Wir freuen uns auf dich. \nHier gehts zum Zoomraum\n\nMeeting-ID: 817 4195 5245\nKenncode: 039226 \n\n  \nHerzlichst\nGabriele und Ute \nAnleitung zum Ausdrucken für das HERZensRaum-Begleitheft \nBegleitheft A4 \nBegleitheft A5
URL:https://online-erlebnis.net/kalender/gabrieles-utes-herzensraum-5/
LOCATION:Online Zoom
ATTACH;FMTTYPE=image/png:https://online-erlebnis.net/wp-content/uploads/2024/01/Herzensraum-neutral-ohne-Datum.png
ORGANIZER;CN="HERZensRAUM":MAILTO:herzensraum@gmx.de
END:VEVENT
BEGIN:VEVENT
DTSTART;TZID=Europe/Berlin:20240424T093000
DTEND;TZID=Europe/Berlin:20240424T100000
DTSTAMP:20260422T170700
CREATED:20240417T183418Z
LAST-MODIFIED:20240423T111528Z
UID:10002611-1713951000-1713952800@online-erlebnis.net
SUMMARY:⏰ 30 Minuten Ping Pong ❓ Q&A zur Community mit Herz mit WUNDERbaren MÖGLICHkeiten❤️
DESCRIPTION:Der Live-Video-Chat Ping Pong = Frage & Antwort findet in unserer Telegram-Gruppe statt. Du bist HERZlich eingeladen. Tritt hier bei: https://t.me/communitymitherz. 👉🏻 Die Community mit Herz ❤️ mit WUNDERbaren MÖGLICHkeiten. \nWas willst du wissen? Schreibe mir gerne vorab eine E-Mail: info@wunderbare-moeglichkeiten.de Bis bald! Ich freue mich\, von dir zu hören und zu lesen\, deine Sabine Lüers
URL:https://online-erlebnis.net/kalender/ping-pong/
LOCATION:Telegram-Gruppe: t.me/communitymitherz
ATTACH;FMTTYPE=image/png:https://online-erlebnis.net/wp-content/uploads/2024/03/PING-PONG-QA-1.png
ORGANIZER;CN="Sabine L%C3%BCers":MAILTO:sl@wunderbare-moeglichkeiten.de
END:VEVENT
BEGIN:VEVENT
DTSTART;TZID=Europe/Berlin:20240424T180000
DTEND;TZID=Europe/Berlin:20240427T180000
DTSTAMP:20260422T170700
CREATED:20240424T085304Z
LAST-MODIFIED:20240429T042307Z
UID:10002743-1713981600-1714240800@online-erlebnis.net
SUMMARY:Bekanntmachung 😇 SeelenWegeKongress mit Sabine Lüers und unserer Community mit Herz
DESCRIPTION:❤️ Am Mittwoch\, den 24.4.2024 startet Tanja´s SeelenWegeKongress. Melde dich am besten jetzt hier noch an: t1p.de/SeelenWegeKongress. Denn du findest da auch unsere Community mit und WUNDERbaren MÖGLICHkeiten. die Sabine an dieser Stelle bekannter macht. Wir freuen uns auf dein Feedback\, was dir am besten an all dem gefällt. 🙏🏻😇💫 \nHier anmelden: t1p.de/SeelenWegeKongress
URL:https://online-erlebnis.net/kalender/bekanntmachung-seelenwegekongress-mit-sabine-lueers-und-unserer-community-mit-herz/
ATTACH;FMTTYPE=image/jpeg:https://online-erlebnis.net/wp-content/uploads/2024/04/SeelenWegeKongress_Tanja_20240424.jpg
END:VEVENT
BEGIN:VEVENT
DTSTART;TZID=Europe/Berlin:20240427T180000
DTEND;TZID=Europe/Berlin:20240428T175900
DTSTAMP:20260422T170700
CREATED:20240424T090957Z
LAST-MODIFIED:20240425T220631Z
UID:10002744-1714240800-1714327140@online-erlebnis.net
SUMMARY:Video-Trailer: Ankündigung des Interviews im SeelenWegeKongress
DESCRIPTION:👍 Der Trailer zum Interview\, das Tanja geführt hat. Sind ca. 2:30 min. Ich freu mich soooo! 😃❤️🙏 Schau mal! 😇Ankündigung unseres Interviews. KLICK! \n❤️ Am Samstag\, den 27.4.2024 findest du ab 18 Uhr bis Sonntag\, 28.4. um 17:59 Uhr\, das Interview\, das Tanja mit Sabine geführt hat\, kostenfrei. Melde dich am besten jetzt hier noch an: t1p.de/SeelenWegeKongress ! \nDu findest da unsere Community mit Herz und WUNDERbaren MÖGLICHkeiten. Denn das ist Sabine´s SeelenWeg\, auf jeden Fall ein Teil davon. Wir freuen uns auf dein Feedback\, was dir am besten an all dem gefällt. 🙏🏻😇💫 \nHier anmelden: t1p.de/SeelenWegeKongress
URL:https://online-erlebnis.net/kalender/tanja-interviewt-sabine-im-seelenwegekongress-die-community-mit-herz-als-seelenweg/
ATTACH;FMTTYPE=image/jpeg:https://online-erlebnis.net/wp-content/uploads/2024/04/SeelenWegeKongress_Tanja_20240424.jpg
END:VEVENT
END:VCALENDAR