BEGIN:VCALENDAR
VERSION:2.0
PRODID:-//WUNDERbare MÖGLICHkeiten - Online Erlebnisse - ECPv6.15.20//NONSGML v1.0//EN
CALSCALE:GREGORIAN
METHOD:PUBLISH
X-WR-CALNAME:WUNDERbare MÖGLICHkeiten - Online Erlebnisse
X-ORIGINAL-URL:https://online-erlebnis.net
X-WR-CALDESC:Veranstaltungen für WUNDERbare MÖGLICHkeiten - Online Erlebnisse
REFRESH-INTERVAL;VALUE=DURATION:PT1H
X-Robots-Tag:noindex
X-PUBLISHED-TTL:PT1H
BEGIN:VTIMEZONE
TZID:Europe/Berlin
BEGIN:DAYLIGHT
TZOFFSETFROM:+0100
TZOFFSETTO:+0200
TZNAME:CEST
DTSTART:20240331T010000
END:DAYLIGHT
BEGIN:STANDARD
TZOFFSETFROM:+0200
TZOFFSETTO:+0100
TZNAME:CET
DTSTART:20241027T010000
END:STANDARD
BEGIN:DAYLIGHT
TZOFFSETFROM:+0100
TZOFFSETTO:+0200
TZNAME:CEST
DTSTART:20250330T010000
END:DAYLIGHT
BEGIN:STANDARD
TZOFFSETFROM:+0200
TZOFFSETTO:+0100
TZNAME:CET
DTSTART:20251026T010000
END:STANDARD
BEGIN:DAYLIGHT
TZOFFSETFROM:+0100
TZOFFSETTO:+0200
TZNAME:CEST
DTSTART:20260329T010000
END:DAYLIGHT
BEGIN:STANDARD
TZOFFSETFROM:+0200
TZOFFSETTO:+0100
TZNAME:CET
DTSTART:20261025T010000
END:STANDARD
END:VTIMEZONE
BEGIN:VEVENT
DTSTART;TZID=Europe/Berlin:20250101T190000
DTEND;TZID=Europe/Berlin:20250101T194000
DTSTAMP:20260421T135617
CREATED:20240912T091748Z
LAST-MODIFIED:20250528T101516Z
UID:10006364-1735758000-1735760400@online-erlebnis.net
SUMMARY:Durch Wissenschaft zur Spiritualität
DESCRIPTION:Heute tauchen wir wieder in das Reich der Wissenschaften ein\, um die neuesten Erkenntnisse über unser Sein kennenzulernen. Aber wie schon Laotze sagte: „Verstehen und nicht zu handeln\, bedeutet nicht verstehen.“ Deshalb werden wir auch Techniken kennenlernen\, wie man diese Erkenntnisse in das eigene Leben integrieren können. \nZum Zoomraum KLICK
URL:https://online-erlebnis.net/kalender/durch-wissenschaft-zur-spiritualitaet/2025-01-01/
LOCATION:Online Zoom
CATEGORIES:Wissenschaft und Spiritualität
ATTACH;FMTTYPE=image/png:https://online-erlebnis.net/wp-content/uploads/2024/09/Desktop-Version-Wirkshop-Bildschirmgroesse.png
END:VEVENT
BEGIN:VEVENT
DTSTART;TZID=Europe/Berlin:20250106T183000
DTEND;TZID=Europe/Berlin:20250106T190000
DTSTAMP:20260421T135617
CREATED:20240730T081057Z
LAST-MODIFIED:20250114T200628Z
UID:10005455-1736188200-1736190000@online-erlebnis.net
SUMMARY:Feier-Abend-Lach-Club
DESCRIPTION:Ich schenke allen Menschen\, die einfach mal ein Lachen und Zeit zum Durchatmen brauchen\, das kostenlose  \nwertvolle Feier-Abend-Lachen jeden Montag. \nEntdecke die Freude und Leichtigkeit beim Lachyoga. Tauche ein in eine Zeit voller Lachen\, Entspannung und positiver Energie. \nPerfekt für alle\, die Stress abbauen\, ihre Stimmung heben und ihr Wohlbefinden steigern möchten. \nDer Lach-Beitrag ist kostenfrei – jeder soll mit lachen. \nHier der Link zum Feier-Abend-Lach-Club jeden Montag 18.25 bis 18.55 Uhr \nhttps://us06web.zoom.us/j/87082941601?pwd=R9bbbZnP7hUPObBaEfwf4lIXTWve59.1 \nSei dabei und erlebe\, wie dein Leben leichter wird\, durch regelmäßige Praxis wirkt es besonders. \nIch freue mich auf DICH\, Junia
URL:https://online-erlebnis.net/kalender/feier-abend-lach-club/2025-01-06/
ATTACH;FMTTYPE=image/jpeg:https://online-erlebnis.net/wp-content/uploads/2024/04/photo_2024-04-18_14-11-05.jpg
ORGANIZER;CN="Junia Gutjahr":MAILTO:Junia-Gutjahr@web.de
END:VEVENT
BEGIN:VEVENT
DTSTART;TZID=Europe/Berlin:20250107T190000
DTEND;TZID=Europe/Berlin:20250107T200000
DTSTAMP:20260421T135617
CREATED:20250103T114311Z
LAST-MODIFIED:20250103T115806Z
UID:10005870-1736276400-1736280000@online-erlebnis.net
SUMMARY:Bühne FREI! Die Fröhliche Plauder Runde mit Buchautor Christian Gob. Wunder Werden Wahr.
DESCRIPTION:Am 7. Januar 2025 um 19 Uhr – Die Fröhliche Plauder Runde mit Buchautor Christian Gob: Deine Vision verdient Erfolg. Fühl dich FREI und sei dabei! Hier findest du deinen Zoom-Link: KLICK! \nUnser gemeinsames YouTube-Einladunsvideo: https://youtu.be/i_6bP5v0vQw \nWir freuen uns von ganzem Herzen auf dich\, um mit dir zu plaudern und unsere Erfahrungen auszutauschen. \nHERZlichst\, Deine Sabine Lüers\nKontakt: https://terminland.de/sabine-lueers \nUnser heutiger Gast ist auf dem Weg\, sein Leben so zu leben\, dass es wirklich lebens- und liebenswert ist\, Dass es immer mehr Spaß macht und Freude bereitet. Alle Menschen streben nach Glück. Doch nicht alle machen sich wirklich auf den Weg. Das unterscheidet die Menschen. Wir bieten dir an\, mit uns deinen Weg zu gehen. Sei dabei und mach dich frei von all dem\, was du nicht mehr willst! \nWelche Wünsche hast du\, die du wahr werden lassen willst? Denn Herzens-Wünsche\, die du dir selbst erfüllst\, sind die Wunder in deinem Leben. Sobald du beginnst\, diesen Weg zu gehen\, fügen sich die Puzzlesteine mehr und mehr zu einem ganzem Bild zusammen. \nKomme mit uns in unseren Zoom-Raum und beteilige dich am Leben! Hier klicken\, um in den Zoom-Raum zu finden: KLICK!
URL:https://online-erlebnis.net/kalender/buehne-frei-die-froehliche-plauder-runde-mit-buchautor-christian-gob-wunder-werden-wahr/
LOCATION:Online Zoom
CATEGORIES:Die Fröhliche Plauder Runde mit Gast
ATTACH;FMTTYPE=image/jpeg:https://online-erlebnis.net/wp-content/uploads/2024/12/photo_2024-12-14_10-39-34.jpg
ORGANIZER;CN="Sabine L%C3%BCers":MAILTO:sl@wunderbare-moeglichkeiten.de
END:VEVENT
BEGIN:VEVENT
DTSTART;TZID=Europe/Berlin:20250109T180000
DTEND;TZID=Europe/Berlin:20250109T183000
DTSTAMP:20260421T135617
CREATED:20241115T133724Z
LAST-MODIFIED:20241115T133724Z
UID:10006543-1736445600-1736447400@online-erlebnis.net
SUMMARY:EMOGIE Tankstelle
DESCRIPTION:Willkommen zu meinem kostenfreien Wirkshop: \nEmotionen lösen und Energie tanken \nDurch das Lösen deiner eingeschlossenen Emotionen (emotionale Altlasten) mit dem Emotionscode\, bekommst du wieder mehr Energie\, weil deine Lebensenergie (Chi/Prana/…) dann wieder freier durch deine Energiebahnen fließen kann. \nLass uns gemeinsam schauen\, welche Energieräuber-Emotionen aktuell zu lösen sind und wie dies in unserem Energiesystem wirkt. \nBist du auch so gespannt\, wie ich? Ich freue mich auf dich! 😊 \nZum Meeting Raum (hier klicken) \nHier kommst du auf meine Website \nHast du Fragen\, oder möchtest mich persönlich am Telefon kennenlernen? \nDann melde dich gerne bei mir +43 664 889 58417
URL:https://online-erlebnis.net/kalender/emogie-tankstelle-3/2025-01-09/
LOCATION:Online
ATTACH;FMTTYPE=image/png:https://online-erlebnis.net/wp-content/uploads/2024/11/EmogieTankstelle-Wirkshop.png
ORGANIZER;CN="Patricia E%C3%9Fig":MAILTO:emogie.seelenweg@gmail.com
END:VEVENT
BEGIN:VEVENT
DTSTART;TZID=Europe/Berlin:20250112T110000
DTEND;TZID=Europe/Berlin:20250112T120000
DTSTAMP:20260421T135617
CREATED:20240713T153321Z
LAST-MODIFIED:20250208T115600Z
UID:10006585-1736679600-1736683200@online-erlebnis.net
SUMMARY:Heilende Sprechstunde
DESCRIPTION:Hast DU den MUT zur Heilenden Beziehung und zu DIR SELBST?\nBist DU offen und bereit neue Wege in DEINEN Beziehungen zu gehen?\n\nDann komm JETZT in die kostenfreie HEILENDE SPRECHSTUNDE!\n\nHier bin ich 60 Minuten nur für DICH\, Deine Fragen und Anliegen rund um das Thema „Heilende Beziehung“ da. Es ist mir eine Herzensangelegenheit für dieses so wichtige Thema Bewusstsein zu schaffen.\n\n\nMonika Grabow | ICHBINeinfachICH.de lädt Sie zu einem geplanten Zoom-Meeting ein.\n\nThema: HEILENDE SPRECHSTUNDE\nBeitreten Zoom Meeting\nhttps://us02web.zoom.us/j/4613291567?pwd=Q1VWdlhyMnphNnVIUmNPSnFoak5xUT09&omn=81186440488\n\nMeeting-ID: 461 329 1567\nKenncode: HEILEND
URL:https://online-erlebnis.net/kalender/heilende-sprechstunde/2025-01-12/
LOCATION:Online Zoom
CATEGORIES:Heilende Beziehung,Heilende Sprechstunde
ATTACH;FMTTYPE=image/png:https://online-erlebnis.net/wp-content/uploads/2024/01/Heilende-Sprechstunde-14-taetgig.png
ORGANIZER;CN="Raum f%C3%BCr bewusste Beziehungen - Monika Grabow":MAILTO:monika@ichbineinfachich.de
END:VEVENT
BEGIN:VEVENT
DTSTART;TZID=Europe/Berlin:20250113T183000
DTEND;TZID=Europe/Berlin:20250113T190000
DTSTAMP:20260421T135617
CREATED:20240730T081057Z
LAST-MODIFIED:20250114T200628Z
UID:10005456-1736793000-1736794800@online-erlebnis.net
SUMMARY:Feier-Abend-Lach-Club
DESCRIPTION:Ich schenke allen Menschen\, die einfach mal ein Lachen und Zeit zum Durchatmen brauchen\, das kostenlose  \nwertvolle Feier-Abend-Lachen jeden Montag. \nEntdecke die Freude und Leichtigkeit beim Lachyoga. Tauche ein in eine Zeit voller Lachen\, Entspannung und positiver Energie. \nPerfekt für alle\, die Stress abbauen\, ihre Stimmung heben und ihr Wohlbefinden steigern möchten. \nDer Lach-Beitrag ist kostenfrei – jeder soll mit lachen. \nHier der Link zum Feier-Abend-Lach-Club jeden Montag 18.25 bis 18.55 Uhr \nhttps://us06web.zoom.us/j/87082941601?pwd=R9bbbZnP7hUPObBaEfwf4lIXTWve59.1 \nSei dabei und erlebe\, wie dein Leben leichter wird\, durch regelmäßige Praxis wirkt es besonders. \nIch freue mich auf DICH\, Junia
URL:https://online-erlebnis.net/kalender/feier-abend-lach-club/2025-01-13/
ATTACH;FMTTYPE=image/jpeg:https://online-erlebnis.net/wp-content/uploads/2024/04/photo_2024-04-18_14-11-05.jpg
ORGANIZER;CN="Junia Gutjahr":MAILTO:Junia-Gutjahr@web.de
END:VEVENT
BEGIN:VEVENT
DTSTART;TZID=Europe/Berlin:20250114T190000
DTEND;TZID=Europe/Berlin:20250114T200000
DTSTAMP:20260421T135617
CREATED:20241211T105725Z
LAST-MODIFIED:20250114T153410Z
UID:10006610-1736881200-1736884800@online-erlebnis.net
SUMMARY:DEINE Vision verdient Erfolg. Wir plaudern gemeinsam und fröhlich von DEINER Vision.
DESCRIPTION:Die Fröhliche Plauder Runde für DEINE Vision und für Antworten auf deine Fragen\, mit Ideen und Lösungen rund um dein Leben und deine(n) Beruf(ung). Hier klicken\, um in den Zoom-Raum zu finden: KLICK \nwww: Wunder Werden Wahr. Im Laufe der Lebensjahre habe ich die WUNDER entdeckt. Und auch die Potenziale zeigen sich mehr und mehr. Fühl dich FREI und sei dabei! Wir ent-decken hier voller Freude auch deine Wunder. \nHier klicken\, um in den Zoom-Raum zu finden: KLICK \n 
URL:https://online-erlebnis.net/kalender/deine-vision-verdient-erfolg/2025-01-14/
LOCATION:Online Zoom
ORGANIZER;CN="Sabine L%C3%BCers":MAILTO:sl@wunderbare-moeglichkeiten.de
END:VEVENT
BEGIN:VEVENT
DTSTART;TZID=Europe/Berlin:20250120T183000
DTEND;TZID=Europe/Berlin:20250120T190000
DTSTAMP:20260421T135617
CREATED:20240730T081057Z
LAST-MODIFIED:20250114T200628Z
UID:10005457-1737397800-1737399600@online-erlebnis.net
SUMMARY:Feier-Abend-Lach-Club
DESCRIPTION:Ich schenke allen Menschen\, die einfach mal ein Lachen und Zeit zum Durchatmen brauchen\, das kostenlose  \nwertvolle Feier-Abend-Lachen jeden Montag. \nEntdecke die Freude und Leichtigkeit beim Lachyoga. Tauche ein in eine Zeit voller Lachen\, Entspannung und positiver Energie. \nPerfekt für alle\, die Stress abbauen\, ihre Stimmung heben und ihr Wohlbefinden steigern möchten. \nDer Lach-Beitrag ist kostenfrei – jeder soll mit lachen. \nHier der Link zum Feier-Abend-Lach-Club jeden Montag 18.25 bis 18.55 Uhr \nhttps://us06web.zoom.us/j/87082941601?pwd=R9bbbZnP7hUPObBaEfwf4lIXTWve59.1 \nSei dabei und erlebe\, wie dein Leben leichter wird\, durch regelmäßige Praxis wirkt es besonders. \nIch freue mich auf DICH\, Junia
URL:https://online-erlebnis.net/kalender/feier-abend-lach-club/2025-01-20/
ATTACH;FMTTYPE=image/jpeg:https://online-erlebnis.net/wp-content/uploads/2024/04/photo_2024-04-18_14-11-05.jpg
ORGANIZER;CN="Junia Gutjahr":MAILTO:Junia-Gutjahr@web.de
END:VEVENT
BEGIN:VEVENT
DTSTART;TZID=Europe/Berlin:20250120T193000
DTEND;TZID=Europe/Berlin:20250120T210000
DTSTAMP:20260421T135617
CREATED:20241212T163148Z
LAST-MODIFIED:20250110T101905Z
UID:10006594-1737401400-1737406800@online-erlebnis.net
SUMMARY:Kostenfreie Online Seminarreihe: "Finde deinen eigenen Weg!"
DESCRIPTION:Die Seminarreihe geht drei Abende vom 20. bis 22. Januar 2025 jeweils um 19.30 Uhr\nAn diesen Abenden  dreht sich alles um die 5 F´s. Du kannst die Abende auch einzeln besuchen. \nDie 5 F`s sind göttliche Eigenschaften die in jeden von uns angelegt sind und die gilt es wieder zu befreien und ans Licht zu bringen\, denn dann wird ALLES möglich \n  \nDie Freude – Freude ist ein großer Schlüssel\, der oft unterschätzt oder vergessen wird. Denn ALLES beginnt mit der Freude. \nden Frieden – wenn du mit dir in Frieden sein kannst\, verändert das dein komplettes Leben. \nden Fokus – um effektiv dein Leben umzugestalten braucht es einen klaren Fokus\, auf das was du erreichen willst. \ndie Fülle – Fülle kommt am schnellsten zu dir wenn du erkennst wo du noch im Mangel bist – deine Mangelenergien erlöst und dankbar auf das schauen kannst\, was du schon erreicht hast. \nund die Freiheit – beginnt wie der Frieden in dir\, wenn du frei bist\, dann kannst du alles erreichen. Freiheit entsteht im Kopf.\nDenke immer daran: die Tür zu deinem Gefängnis geht von innen auf! \nDie 5 F`s sind göttliche Eigenschaften die in jeden von uns angelegt sind und die gilt es wieder zu befreien und ans Licht zu bringen\, denn dann wird ALLES möglich! \nHier kannst du dich kostenlos registrieren\, bitte melde dich vier Tage vorher an.\nhttps://www.junia-gutjahr.de/lp/finde-deinen-eigenen-weg/ \nWenn du ganz spontan mitmachen möchtest\, dann kannst du Junia anrufen.\n0160/90882812 \n  \nJunia Gutjahr und Taria Hollweck freuen sich auf dich!
URL:https://online-erlebnis.net/kalender/kostenfreie-online-seminarreihe-finde-deinen-eigenen-weg/
ATTACH;FMTTYPE=image/jpeg:https://online-erlebnis.net/wp-content/uploads/2024/02/Junia-und-Taria-e1736504300885.jpg
END:VEVENT
BEGIN:VEVENT
DTSTART;TZID=Europe/Berlin:20250121T190000
DTEND;TZID=Europe/Berlin:20250121T200000
DTSTAMP:20260421T135617
CREATED:20250115T104549Z
LAST-MODIFIED:20250115T114350Z
UID:10005872-1737486000-1737489600@online-erlebnis.net
SUMMARY:Bühne FREI! Die Fröhliche Plauder Runde mit Katharina Herdegen und ihrer GfühlART
DESCRIPTION:Katharinas Vision verdient Erfolg. Sie ist Friedensstifterin und akitv MitWIRKENde unserer Community mit Herz. Am Dienstag hier klicken\, um in den Zoom-Raum zu finden und live dabei zu sein: KLICK  \nDu bist herzlich eingeladen\, die wunderbare Möglichkeit für dich zu entdecken und den Herzens-Menschen Katharina auch live in kostenfreien Zoom´s kennenzulernen. Einladunsgs-Kurz-Video https://youtu.be/Jf0ffpt2Hsc \nIhre eigene Gruppe in unserer Community heißt: GfühlART – Die Kunst der Gefühlsbestimmung. Wie wir unser Gefühl selbst beeinflussen und welche Möglichkeiten dadurch entstehen\, erfährst du in unserem gemeinsamen Video und hier: https://gfuehlart.com. \nDie Basis des Erfolgs ist das Glücklichsein. \nKatharina\, war selbst auf der Suche nach ihrer Berufung und hat sie darin gefunden\, Menschen in die Freude zu bringen\, damit sie strahlend durchs Leben gehen und dadurch die Welt Stück für Stück heller wird. \nSie hat erkannt\, dass alles im Leben auf dem Gefühl basiert und der Erfolg und die Leistungsfähigkeit vom Gefühl abhängt. Deshalb zeigt sie den Menschen als Gefühlscoach\, wie man zu jeder Zeit sein Gefühl bestimmen kann\,. Als Life Passion Coach\, wie man seine Berufung findet. Als Konfliktcoach möchte Katharina durch ihre neue Kunst zu streiten\, die Menschen zu glücklichen Konfliktpartnern machen. \nMöge sie damit mehr und mehr Menschen in den inneren Frieden bringen! Komme mit uns in unseren Zoom-Raum und nimm teil! Hier klicken\, um in den Zoom-Raum zu finden: KLICK \nDas wünscht von ganzem Herzen\, Sabine Lüers\nhttps://terminland.de/sabine-lueers
URL:https://online-erlebnis.net/kalender/die-froehliche-plauder-runde-mit-katharina-herdegen/
LOCATION:Online Zoom
CATEGORIES:Die Fröhliche Plauder Runde mit Gast
ORGANIZER;CN="Sabine L%C3%BCers":MAILTO:sl@wunderbare-moeglichkeiten.de
END:VEVENT
BEGIN:VEVENT
DTSTART;TZID=Europe/Berlin:20250123T180000
DTEND;TZID=Europe/Berlin:20250123T183000
DTSTAMP:20260421T135617
CREATED:20250123T101444Z
LAST-MODIFIED:20250123T102008Z
UID:10006535-1737655200-1737657000@online-erlebnis.net
SUMMARY:EMOGIE Tankstelle
DESCRIPTION:Willkommen zu meinem kostenfreien Wirkshop: \nEmotionen lösen und Energie tanken \nDurch das Lösen deiner eingeschlossenen Emotionen (emotionale Altlasten) mit dem Emotionscode\, bekommst du wieder mehr Energie\, weil deine Lebensenergie (Chi/Prana/…) dann wieder freier durch deine Energiebahnen fließen kann. \nLass uns gemeinsam schauen\, welche Energieräuber-Emotionen aktuell zu lösen sind und wie dies in unserem Energiesystem wirkt. \nBist du auch so gespannt\, wie ich? Ich freue mich auf dich! 😊 Hast du Fragen\, oder möchtest mich persönlich am Telefon kennenlernen? Dann melde dich gerne bei mir +43 664 889 58417 \nZum Meeting Raum (hier klicken) \nLink: https://meet.google.com/jgo-emnq-xqn
URL:https://online-erlebnis.net/kalender/emogie-tankstelle-5/
LOCATION:Online
CATEGORIES:Community mit Herz und ihre wunderbaren Möglichkeiten,Selbstbestimmt sein - in unbestimmten Lebensphasen
ATTACH;FMTTYPE=image/png:https://online-erlebnis.net/wp-content/uploads/2024/11/EmogieTankstelle-Wirkshop.png
ORGANIZER;CN="Patricia E%C3%9Fig":MAILTO:emogie.seelenweg@gmail.com
END:VEVENT
BEGIN:VEVENT
DTSTART;TZID=Europe/Berlin:20250124T183000
DTEND;TZID=Europe/Berlin:20250124T193000
DTSTAMP:20260421T135617
CREATED:20240910T103244Z
LAST-MODIFIED:20240926T180554Z
UID:10006438-1737743400-1737747000@online-erlebnis.net
SUMMARY:🐛Transformation für dein wahres Sein 🦋
DESCRIPTION:🐛Transformation für dein wahres sein🦋\nDas erwartet Dich im Wirkshop: \nIch möchte es jedem Menschen ermöglichen\, sich selbstbewusst zu fühlen um dich auf die nächste Stufe zu bringen\, indem wir Schritt für Schritt  schauen was du wirklich\, wirklich willst. \n✏️Was wäre\, wenn es auch anders geht? \n✏️Woran würdest du merken\, dass du bereit bist\, dein Leben selbstbestimmt zu gestalten? \n✏️Bist du bereit\, Verantwortung zu übernehmen für all das\, was in deinem Leben geschieht und nicht mehr die Schuld bei anderen oder im Außen zu suchen? \n🦋Für mehr Selbstliebe\, Selbstwert\, Vertrauen\,  \n      Lebensfreude  \n🦋Um zu erkennen wer du wahrhaftig bist  \n🦋Um ganzheitlich Heil zu sein \n🦋Um Frieden\, Glück \, Fülle und Leichtigkeit zu      \n      erfahren.  \nAm Ende des Workshop bekommt jeder Teilnehmer ein Geschenk 🌞 \nIch bin Gesundheitspädagogin und Schamanin der Neuzeit\nIm Laufe meines Lebens habe ich sehr viele Heiltechniken aus verschiedenen Ländern gelernt\, die ich bei meiner Ursprungsarbeit\, je nach Bedarf mit einsetze. \nMeine Mission: \nDich durch tiefe Transformationsprozesse zu bringen um in Selbstheilung und Bewusstwerdung zu gehen\, um Dein wahres Selbst zu erkennen . \nErkenne\, wachse und verstehe\, im Hier und Jetzt was du brauchst\, um das Leben auf allen Ebenen frei\, glücklich und gesund Leben zu können. \nzum WIRKshop klicke hier
URL:https://online-erlebnis.net/kalender/%f0%9f%90%9btransformation-fuer-dein-wahres-sein-%f0%9f%a6%8b-2/2025-01-24/
LOCATION:Online Zoom
CATEGORIES:🐛Transformationsgespräche🦋
ATTACH;FMTTYPE=image/png:https://online-erlebnis.net/wp-content/uploads/2024/04/7178D1BB-6703-4EDA-A042-35E1797DCE6C.png
ORGANIZER;CN="kirstenDay":MAILTO:life.in.balance@web.de
END:VEVENT
BEGIN:VEVENT
DTSTART;TZID=Europe/Berlin:20250126T110000
DTEND;TZID=Europe/Berlin:20250126T120000
DTSTAMP:20260421T135617
CREATED:20240713T153321Z
LAST-MODIFIED:20250208T115600Z
UID:10006586-1737889200-1737892800@online-erlebnis.net
SUMMARY:Heilende Sprechstunde
DESCRIPTION:Hast DU den MUT zur Heilenden Beziehung und zu DIR SELBST?\nBist DU offen und bereit neue Wege in DEINEN Beziehungen zu gehen?\n\nDann komm JETZT in die kostenfreie HEILENDE SPRECHSTUNDE!\n\nHier bin ich 60 Minuten nur für DICH\, Deine Fragen und Anliegen rund um das Thema „Heilende Beziehung“ da. Es ist mir eine Herzensangelegenheit für dieses so wichtige Thema Bewusstsein zu schaffen.\n\n\nMonika Grabow | ICHBINeinfachICH.de lädt Sie zu einem geplanten Zoom-Meeting ein.\n\nThema: HEILENDE SPRECHSTUNDE\nBeitreten Zoom Meeting\nhttps://us02web.zoom.us/j/4613291567?pwd=Q1VWdlhyMnphNnVIUmNPSnFoak5xUT09&omn=81186440488\n\nMeeting-ID: 461 329 1567\nKenncode: HEILEND
URL:https://online-erlebnis.net/kalender/heilende-sprechstunde/2025-01-26/
LOCATION:Online Zoom
CATEGORIES:Heilende Beziehung,Heilende Sprechstunde
ATTACH;FMTTYPE=image/png:https://online-erlebnis.net/wp-content/uploads/2024/01/Heilende-Sprechstunde-14-taetgig.png
ORGANIZER;CN="Raum f%C3%BCr bewusste Beziehungen - Monika Grabow":MAILTO:monika@ichbineinfachich.de
END:VEVENT
BEGIN:VEVENT
DTSTART;TZID=Europe/Berlin:20250127T183000
DTEND;TZID=Europe/Berlin:20250127T190000
DTSTAMP:20260421T135617
CREATED:20240730T081057Z
LAST-MODIFIED:20250114T200628Z
UID:10005458-1738002600-1738004400@online-erlebnis.net
SUMMARY:Feier-Abend-Lach-Club
DESCRIPTION:Ich schenke allen Menschen\, die einfach mal ein Lachen und Zeit zum Durchatmen brauchen\, das kostenlose  \nwertvolle Feier-Abend-Lachen jeden Montag. \nEntdecke die Freude und Leichtigkeit beim Lachyoga. Tauche ein in eine Zeit voller Lachen\, Entspannung und positiver Energie. \nPerfekt für alle\, die Stress abbauen\, ihre Stimmung heben und ihr Wohlbefinden steigern möchten. \nDer Lach-Beitrag ist kostenfrei – jeder soll mit lachen. \nHier der Link zum Feier-Abend-Lach-Club jeden Montag 18.25 bis 18.55 Uhr \nhttps://us06web.zoom.us/j/87082941601?pwd=R9bbbZnP7hUPObBaEfwf4lIXTWve59.1 \nSei dabei und erlebe\, wie dein Leben leichter wird\, durch regelmäßige Praxis wirkt es besonders. \nIch freue mich auf DICH\, Junia
URL:https://online-erlebnis.net/kalender/feier-abend-lach-club/2025-01-27/
ATTACH;FMTTYPE=image/jpeg:https://online-erlebnis.net/wp-content/uploads/2024/04/photo_2024-04-18_14-11-05.jpg
ORGANIZER;CN="Junia Gutjahr":MAILTO:Junia-Gutjahr@web.de
END:VEVENT
BEGIN:VEVENT
DTSTART;TZID=Europe/Berlin:20250128T190000
DTEND;TZID=Europe/Berlin:20250128T200000
DTSTAMP:20260421T135617
CREATED:20250117T090050Z
LAST-MODIFIED:20250127T074325Z
UID:10006611-1738090800-1738094400@online-erlebnis.net
SUMMARY:Bühne FREI! Für Hartmut Heintz: Scheitern macht Gescheiter. Befreit durch Insolvenz. Die Fröhliche Plauder Runde mit Gast.
DESCRIPTION:Wie die Entscheidung und der Weg durch die Insolvenz befreit und das Tor zu neuen wunderbaren Möglichkeiten öffnet. Darüber sprechen wir am Dienstag\, den 28. Januar um 19 Uhr. Zum Zoom-Raum: KLICK \nUnsere von Herzen kommende Kurz-Video-Einladung für dich: https://youtu.be/m5EStgDR0b0 \nHartmut selbst ist auf dem Weg\, durch seine eigenen Erfahrungen Menschen hilfreich zur Seite zu stehen und ihnen Mut zu machen. Mut zu machen\, um auch nach gravierenden Lebensereignissen\, wie z.B. einer Insolvenz\, wieder nach vorne zu schauen und tatkräftig eine eigene Vision zu entwickeln und in die Welt zu bringen. \nKontakt: HeintzHartmut572@gmail.com \nHier klicken\, um teilzunehmen und in den Zoom-Raum zu finden: KLICK \n 
URL:https://online-erlebnis.net/kalender/buehne-frei-fuer-hartmut-heintz/
LOCATION:Online Zoom
ORGANIZER;CN="Sabine L%C3%BCers":MAILTO:sl@wunderbare-moeglichkeiten.de
END:VEVENT
BEGIN:VEVENT
DTSTART;TZID=Europe/Berlin:20250129T193000
DTEND;TZID=Europe/Berlin:20250129T200000
DTSTAMP:20260421T135617
CREATED:20250127T170825Z
LAST-MODIFIED:20250127T170825Z
UID:10006638-1738179000-1738180800@online-erlebnis.net
SUMMARY:WirkShop der Wunder: Gefühlstheorie\, Orakeltechnik\, Experimente
DESCRIPTION:Gefühlstheorie:\nBeschreibung der Werkzeuge des Erschaffens und Einfluss des Gefühls auf den Verlauf des Lebens.\nEinfaches Werkzeug zur Bestimmung des Gefühls\, um jederzeit in ein Hochgefühl zu gelangen. \nOrakeltechnik:\nWerkzeug\, um die Erfolgswahrscheinlichkeit eines Vorhabens zu Beginn abzuschätzen. \nExperimente:\nKurze Zusammenfassung der Einsatzgebiete der Technik.\nErfahrungsübungen\, um den Einfluss des Gefühls auf den Verlauf zu erfahren. \nAn Zoom-Meeting teilnehmen\nhttps://us05web.zoom.us/j/87333080895?pwd=mSfbO7GwGYpIdEmAAwdINxsstdV9Vm.1 \nMeeting-ID: 873 3308 0895\nKenncode: 4yjqSD\nGfühlART – LifeART – ZankART\nwww.gfuehlart.com\nherdegen@gfuehlart.com
URL:https://online-erlebnis.net/kalender/wirkshop-der-wunder-gefuehlstheorie-orakeltechnik-experimente-2/
ATTACH;FMTTYPE=image/jpeg:https://online-erlebnis.net/wp-content/uploads/2025/01/Gfuehlart-Die-Kunst-der-Gefuehlsbestimmung1.jpg
END:VEVENT
END:VCALENDAR