BEGIN:VCALENDAR
VERSION:2.0
PRODID:-//WUNDERbare MÖGLICHkeiten - Online Erlebnisse - ECPv6.15.20//NONSGML v1.0//EN
CALSCALE:GREGORIAN
METHOD:PUBLISH
X-WR-CALNAME:WUNDERbare MÖGLICHkeiten - Online Erlebnisse
X-ORIGINAL-URL:https://online-erlebnis.net
X-WR-CALDESC:Veranstaltungen für WUNDERbare MÖGLICHkeiten - Online Erlebnisse
REFRESH-INTERVAL;VALUE=DURATION:PT1H
X-Robots-Tag:noindex
X-PUBLISHED-TTL:PT1H
BEGIN:VTIMEZONE
TZID:Europe/Berlin
BEGIN:DAYLIGHT
TZOFFSETFROM:+0100
TZOFFSETTO:+0200
TZNAME:CEST
DTSTART:20230326T010000
END:DAYLIGHT
BEGIN:STANDARD
TZOFFSETFROM:+0200
TZOFFSETTO:+0100
TZNAME:CET
DTSTART:20231029T010000
END:STANDARD
BEGIN:DAYLIGHT
TZOFFSETFROM:+0100
TZOFFSETTO:+0200
TZNAME:CEST
DTSTART:20240331T010000
END:DAYLIGHT
BEGIN:STANDARD
TZOFFSETFROM:+0200
TZOFFSETTO:+0100
TZNAME:CET
DTSTART:20241027T010000
END:STANDARD
BEGIN:DAYLIGHT
TZOFFSETFROM:+0100
TZOFFSETTO:+0200
TZNAME:CEST
DTSTART:20250330T010000
END:DAYLIGHT
BEGIN:STANDARD
TZOFFSETFROM:+0200
TZOFFSETTO:+0100
TZNAME:CET
DTSTART:20251026T010000
END:STANDARD
END:VTIMEZONE
BEGIN:VEVENT
DTSTART;TZID=Europe/Berlin:20240219T190000
DTEND;TZID=Europe/Berlin:20240219T203000
DTSTAMP:20260421T200224
CREATED:20240214T133036Z
LAST-MODIFIED:20240214T134509Z
UID:10000143-1708369200-1708374600@online-erlebnis.net
SUMMARY:FreudeMalZeit mit Glücksdusche
DESCRIPTION:Liebe MalFreudige oder Mal freudig Werdende\,\nDu bist eingeladen – Mal montags. Mal dienstags zum freudigen Malen*\nund zum Erfahren wie das ist\, mit Freude zu malen\,\nauch und gerade\, wenn Du noch dies über Dich glaubst:\nDu kannst nicht malen. Du malst nicht gut genug. oder: Du lernst das nie.\nKunst kommt vielleicht von Können\, DOCH Malen kommt von Mal probieren.\nDu siehst: Malen ist ganz was anderes. Es ist die pure Freude am SEIN.\nGlaubst Du nicht? Probiers Mal-en.\nZum Guten Schluss gibt es eine GlücksDusche. \nLink zur EinWahl: https://us06web.zoom.us/j/99099820097\nDeine Nana Mara Susanne\n* PS: Bringe Dein MalZeug mit an den PC – wie zum Beispiel:\nBuntstifte\, Wachsstifte\, Ölkreiden oder Pastell\, Aquarell\, Acryl\nund entsprechendes MalPapier oder MalGründe.\n 
URL:https://online-erlebnis.net/kalender/freudemalzeit-mit-gluecksdusche/2024-02-19/
LOCATION:Online Zoom
ATTACH;FMTTYPE=image/png:https://online-erlebnis.net/wp-content/uploads/2024/02/Finde-Deine-SilberPerle-18.png
END:VEVENT
BEGIN:VEVENT
DTSTART;TZID=Europe/Berlin:20240219T193000
DTEND;TZID=Europe/Berlin:20240219T203000
DTSTAMP:20260421T200224
CREATED:20240214T191451Z
LAST-MODIFIED:20240215T122926Z
UID:10000154-1708371000-1708374600@online-erlebnis.net
SUMMARY:"Finde deinen eigenen Weg"
DESCRIPTION:FINDE DEINEN EIGENEN WEG UND LASS SO DEIN LICHT IN DIE WELT STRAHLEN!\nDas kostenlose Online Live-Event\, das alles verändern kann. Möchtest du es endlich schaffen\, im deinen Inneren eine so große Veränderung zu erreichen\, dass deine Außenwelt anfängt sich ebenfalls mit zu verändern? Möchtest du den Weg in deine eigene Kraft und Fülle finden?\nDann lass dir von deiner Seele helfen\, denn deine Seele kennt deinen Weg! \nLass dich begleiten\, diesen Weg auch zu finden und ihn zu gehen!\nWir unterstützen dich\, das du es schaffst\, in dir eine solche Veränderung zu erreichen\, dass sich im Außen automatisch ebenfalls alles zu verändern beginnt.\nDenn es gibt nur einen Weg – DEINEN! \nJunia und Taria leiten dich mit inspirierenden Geschichten\, Live-Coachings und Erklärungen sowie tiefgehenden Meditationen durch 12 Abende\, die alles verändern können! \nDiese Abende sind live per Zoom.\nDu hast die Möglichkeit\, Dir einen Platz kostenfrei zu sichern und mit dabei zu sein. \nTermine:\nWann: immer Mo. Di. und Mi. um 19.30 bis ca. 20.30 Uhr\nDie Abende bauen aufeinander auf\, es ist aber auch möglich nur einzeln dabei zu sein. \nWo: Online\, live bei Dir Zuhause\nUm keinen Termin zu verpassen\, kannst du dich hier kostenfrei anmelden und du bekommst immer rechtzeitig Bescheid\, wenn wir die Transformationsreise fortsetzen und wenn sich etwas ändern sollte! \nMehr Infos (KLICK) \nWir freuen uns auf dich! \nJunia und Taria \n  \n  \n  \n  \n 
URL:https://online-erlebnis.net/kalender/finde-deinen-eigenen-weg-3/
ATTACH;FMTTYPE=image/jpeg:https://online-erlebnis.net/wp-content/uploads/2024/02/Junia-und-Taria-big.jpg
ORGANIZER;CN="Junia Gutjahr":MAILTO:Junia-Gutjahr@web.de
END:VEVENT
BEGIN:VEVENT
DTSTART;TZID=Europe/Berlin:20240221T193000
DTEND;TZID=Europe/Berlin:20240221T203000
DTSTAMP:20260421T200224
CREATED:20240221T103057Z
LAST-MODIFIED:20240221T103123Z
UID:10001206-1708543800-1708547400@online-erlebnis.net
SUMMARY:"Finde deinen eigenen Weg"
DESCRIPTION:FINDE DEINEN EIGENEN WEG UND LASS SO DEIN LICHT IN DIE WELT STRAHLEN!\nDas kostenlose Online Live-Event\, das alles verändern kann. Möchtest du es endlich schaffen\, im deinen Inneren eine so große Veränderung zu erreichen\, dass deine Außenwelt anfängt sich ebenfalls mit zu verändern? Möchtest du den Weg in deine eigene Kraft und Fülle finden?\nDann lass dir von deiner Seele helfen\, denn deine Seele kennt deinen Weg! \nLass dich begleiten\, diesen Weg auch zu finden und ihn zu gehen!\nWir unterstützen dich\, das du es schaffst\, in dir eine solche Veränderung zu erreichen\, dass sich im Außen automatisch ebenfalls alles zu verändern beginnt.\nDenn es gibt nur einen Weg – DEINEN! \nJunia und Taria leiten dich mit inspirierenden Geschichten\, Live-Coachings und Erklärungen sowie tiefgehenden Meditationen durch 12 Abende\, die alles verändern können! \nDiese Abende sind live per Zoom.\nDu hast die Möglichkeit\, Dir einen Platz kostenfrei zu sichern und mit dabei zu sein. \nTermine:\nWann: immer Mo. Di. und Mi. um 19.30 bis ca. 20.30 Uhr\nDie Abende bauen aufeinander auf\, es ist aber auch möglich nur einzeln dabei zu sein. \nWo: Online\, live bei Dir Zuhause\nUm keinen Termin zu verpassen\, kannst du dich hier kostenfrei anmelden und du bekommst immer rechtzeitig Bescheid\, wenn wir die Transformationsreise fortsetzen und wenn sich etwas ändern sollte! \nMehr Infos (KLICK) \nWir freuen uns auf dich! \nJunia und Taria \n  \n  \n  \n  \n 
URL:https://online-erlebnis.net/kalender/finde-deinen-eigenen-weg-2/
ATTACH;FMTTYPE=image/jpeg:https://online-erlebnis.net/wp-content/uploads/2024/02/Junia-und-Taria-big.jpg
ORGANIZER;CN="Junia Gutjahr":MAILTO:Junia-Gutjahr@web.de
END:VEVENT
BEGIN:VEVENT
DTSTART;TZID=Europe/Berlin:20240222T190000
DTEND;TZID=Europe/Berlin:20240222T200000
DTSTAMP:20260421T200224
CREATED:20240130T113024Z
LAST-MODIFIED:20240130T121821Z
UID:10000028-1708628400-1708632000@online-erlebnis.net
SUMMARY:Selbstbestimmt sein - in unbestimmten Lebensphasen
DESCRIPTION:Hallo Ihr Lieben\, \nich bin Stefanie und für alle\, die es interessiert\, möchte ich Euch mit meinem WIRKSHOP zeigen wie Ihr eure Selbstbestimmung in jeder Lebensphase behalten könnt. Ich freue mich sehr auf Euch…bis zum 22.02.2024 um 19.00Uhr \nDu bist herzlich eingeladen! Du kannst auch einfach nur zuhören.  Herzlich(s)t\, deine Stefanie ❤️ \nZum Zoom-Raum: https://us02web.zoom.us/j/89682216039?pwd=TmE4TkdTSU0vaGtzMlk1UmZsSE5hQT09 \n  \n 
URL:https://online-erlebnis.net/kalender/selbstbestimmt-sein-in-unbestimmten-lebensphasen/
ATTACH;FMTTYPE=image/png:https://online-erlebnis.net/wp-content/uploads/2024/01/Veranstaltung.png
ORGANIZER;CN="Stefanie Hafenrichter":MAILTO:hafe.steffi@gmail.com
END:VEVENT
END:VCALENDAR