BEGIN:VCALENDAR
VERSION:2.0
PRODID:-//WUNDERbare MÖGLICHkeiten - Online Erlebnisse - ECPv6.15.20//NONSGML v1.0//EN
CALSCALE:GREGORIAN
METHOD:PUBLISH
X-ORIGINAL-URL:https://online-erlebnis.net
X-WR-CALDESC:Veranstaltungen für WUNDERbare MÖGLICHkeiten - Online Erlebnisse
REFRESH-INTERVAL;VALUE=DURATION:PT1H
X-Robots-Tag:noindex
X-PUBLISHED-TTL:PT1H
BEGIN:VTIMEZONE
TZID:Europe/Berlin
BEGIN:DAYLIGHT
TZOFFSETFROM:+0100
TZOFFSETTO:+0200
TZNAME:CEST
DTSTART:20230326T010000
END:DAYLIGHT
BEGIN:STANDARD
TZOFFSETFROM:+0200
TZOFFSETTO:+0100
TZNAME:CET
DTSTART:20231029T010000
END:STANDARD
BEGIN:DAYLIGHT
TZOFFSETFROM:+0100
TZOFFSETTO:+0200
TZNAME:CEST
DTSTART:20240331T010000
END:DAYLIGHT
BEGIN:STANDARD
TZOFFSETFROM:+0200
TZOFFSETTO:+0100
TZNAME:CET
DTSTART:20241027T010000
END:STANDARD
BEGIN:DAYLIGHT
TZOFFSETFROM:+0100
TZOFFSETTO:+0200
TZNAME:CEST
DTSTART:20250330T010000
END:DAYLIGHT
BEGIN:STANDARD
TZOFFSETFROM:+0200
TZOFFSETTO:+0100
TZNAME:CET
DTSTART:20251026T010000
END:STANDARD
END:VTIMEZONE
BEGIN:VEVENT
DTSTART;TZID=Europe/Berlin:20240304T080000
DTEND;TZID=Europe/Berlin:20240304T170000
DTSTAMP:20260421T161129
CREATED:20240221T105415Z
LAST-MODIFIED:20240221T130310Z
UID:10001209-1709539200-1709571600@online-erlebnis.net
SUMMARY:Info Abend zum Seminar "Der Weg ins Licht"
DESCRIPTION:Wer sich genau informieren will\, über das Seminar „DER WEG INS LICHT!“ der ist herzlich eingeladen. Kostenfrei und unverbindlich beantworten wir alle deine Fragen und geben Einblick in die 4 Seminartage und alles was drum herum noch wichtig ist. \nFür alle die sich näher über das Seminar informieren möchten. \nWir Junia und Taria\, beantworten alle Fragen dazu und geben Einblick in die 4 Tage.\nDu kannst alle deine Fragen stellen.\nWas möchtest du wissen?\nWo ist etwas noch nicht klar?\nIst dieses Seminar etwas für dich?\nWas ist der Energieausgleich?\nWo findet es statt?\nWelche Übernachtungsmöglichkeiten hast du?\nWie findest du zu uns? \nDu bekommst eine kleine Kostprobe in Form einer Heilungstechnik die du sofort bei dir selber oder deinen Liebsten anwenden kannst.\nUnd noch vieles mehr…..\nDie Teilnahme bei diesem Info Abend ist kostenfrei und verpflichtet dich zu nichts.\nLass uns einfach eintauchen in die Energie dieses wunderbaren Seminars und dabei Spaß haben.\nDa wir den „Weg ins Licht“ auch im Herbst wieder geben\, kannst du einfach mal reinschnuppern in die Energie und musst dich nicht gleich entscheiden. \nWir freuen uns auf dich! \n \n  \n  \n  \n  \nHier ist der Eintrittslink:\nBeitreten Zoom Meeting\nhttps://us02web.zoom.us/j/81288566009
URL:https://online-erlebnis.net/kalender/info-abend-zum-seminar-der-weg-ins-licht/2024-03-04/
ORGANIZER;CN="Junia Gutjahr":MAILTO:Junia-Gutjahr@web.de
END:VEVENT
BEGIN:VEVENT
DTSTART;TZID=Europe/Berlin:20240304T190000
DTEND;TZID=Europe/Berlin:20240304T203000
DTSTAMP:20260421T161129
CREATED:20240214T133036Z
LAST-MODIFIED:20240214T134509Z
UID:10000145-1709578800-1709584200@online-erlebnis.net
SUMMARY:FreudeMalZeit mit Glücksdusche
DESCRIPTION:Liebe MalFreudige oder Mal freudig Werdende\,\nDu bist eingeladen – Mal montags. Mal dienstags zum freudigen Malen*\nund zum Erfahren wie das ist\, mit Freude zu malen\,\nauch und gerade\, wenn Du noch dies über Dich glaubst:\nDu kannst nicht malen. Du malst nicht gut genug. oder: Du lernst das nie.\nKunst kommt vielleicht von Können\, DOCH Malen kommt von Mal probieren.\nDu siehst: Malen ist ganz was anderes. Es ist die pure Freude am SEIN.\nGlaubst Du nicht? Probiers Mal-en.\nZum Guten Schluss gibt es eine GlücksDusche. \nLink zur EinWahl: https://us06web.zoom.us/j/99099820097\nDeine Nana Mara Susanne\n* PS: Bringe Dein MalZeug mit an den PC – wie zum Beispiel:\nBuntstifte\, Wachsstifte\, Ölkreiden oder Pastell\, Aquarell\, Acryl\nund entsprechendes MalPapier oder MalGründe.\n 
URL:https://online-erlebnis.net/kalender/freudemalzeit-mit-gluecksdusche/2024-03-04/
LOCATION:Online Zoom
ATTACH;FMTTYPE=image/png:https://online-erlebnis.net/wp-content/uploads/2024/02/Finde-Deine-SilberPerle-18.png
END:VEVENT
BEGIN:VEVENT
DTSTART;TZID=Europe/Berlin:20240304T193000
DTEND;TZID=Europe/Berlin:20240304T203000
DTSTAMP:20260421T161129
CREATED:20240202T085447Z
LAST-MODIFIED:20240223T162523Z
UID:10000041-1709580600-1709584200@online-erlebnis.net
SUMMARY:Gabrieles & Utes HERZensRAUM
DESCRIPTION:Der Herzensraum öffnet wieder seine Türen am Montag\, 04.03.2024 um 19:30 bis 20:30 Uhr. Dieser Raum ist ein geschützter Begegnungs- und Heilungsraum. Wir laden dich ein\, mit uns das zu teilen\, was gerade da ist und gesprochen werden will. Du kannst auch gern nur zuhören. In diesem Raum wird nichts bewertet\, es gibt keine guten Ratschläge (außer du willst es)\, alles darf da sein. Die Teilnahme ist gratis. \nEs geht um echtes\, wahrhaftiges Zeigen all dessen\, was gerade in uns los ist. \nWie Trennung\, Verurteilung und Schuldzuweisung geht\, haben wir in Perfektion geübt. Raus aus den alten Schuhen. Unser Herzenswunsch ist es\, zu üben\, wie Verbundenheit\, Gleichwertigkeit und Unschuld gelebt wird. Wir sind alle Anfänger und es bedarf ein bisschen Übung\, weil wir bisher so völlig anders miteinander umgegangen sind. Es ist Zeit dafür\, umzukehren\, zum liebevollen Weg. \nWie wäre es\, wenn jeden Moment das\, was aus uns raus will\, ausgedrückt werden darf\, wenn da Menschen wären\, die den Raum halten für jedes Gefühl\, was gerade da ist\, in dem Vertrauen\, dass gerade das für dich und die anderen heilsam ist. Hier geht es vor allem um die Gefühle\, die in unserer Kindheit nicht da sein durften (Wut\, Trotz\, Scham\, Schuld). \nBefreie deinen heilen Kern\, Schicht für Schicht. \nGerne nehmen wir Themen auf\, über die ihr euch austauschen wollt. \nWenn du Struktur und Konzept erwartest\, ist das möglicherweise nicht der richtige Raum für dich. Uns geht es darum\, gemeinsam mit euch etwas Neues zu erschaffen\, indem jeder sich einbringt\, mit dem\, was er zu geben hat. Ein lockerer\, ungezwungener Austausch über das\, was uns gerade bewegt\, ist uns wichtig. \nKomm\, wie du bist. Wir freuen uns auf dich. \nHier gehts zum Zoomraum \nHerzlichst\nGabriele und Ute \nAnleitung zum Ausdrucken für das HERZensRaum-Begleitheft \nBegleitheft A4 \nBegleitheft A5
URL:https://online-erlebnis.net/kalender/gabrieles-utes-herzensraum-2/
LOCATION:Online Zoom
ATTACH;FMTTYPE=image/png:https://online-erlebnis.net/wp-content/uploads/2024/01/Herzensraum-neutral-ohne-Datum.png
ORGANIZER;CN="HERZensRAUM":MAILTO:herzensraum@gmx.de
END:VEVENT
END:VCALENDAR