BEGIN:VCALENDAR
VERSION:2.0
PRODID:-//WUNDERbare MÖGLICHkeiten - Online Erlebnisse - ECPv6.15.20//NONSGML v1.0//EN
CALSCALE:GREGORIAN
METHOD:PUBLISH
X-ORIGINAL-URL:https://online-erlebnis.net
X-WR-CALDESC:Veranstaltungen für WUNDERbare MÖGLICHkeiten - Online Erlebnisse
REFRESH-INTERVAL;VALUE=DURATION:PT1H
X-Robots-Tag:noindex
X-PUBLISHED-TTL:PT1H
BEGIN:VTIMEZONE
TZID:Europe/Berlin
BEGIN:DAYLIGHT
TZOFFSETFROM:+0100
TZOFFSETTO:+0200
TZNAME:CEST
DTSTART:20240331T010000
END:DAYLIGHT
BEGIN:STANDARD
TZOFFSETFROM:+0200
TZOFFSETTO:+0100
TZNAME:CET
DTSTART:20241027T010000
END:STANDARD
BEGIN:DAYLIGHT
TZOFFSETFROM:+0100
TZOFFSETTO:+0200
TZNAME:CEST
DTSTART:20250330T010000
END:DAYLIGHT
BEGIN:STANDARD
TZOFFSETFROM:+0200
TZOFFSETTO:+0100
TZNAME:CET
DTSTART:20251026T010000
END:STANDARD
BEGIN:DAYLIGHT
TZOFFSETFROM:+0100
TZOFFSETTO:+0200
TZNAME:CEST
DTSTART:20260329T010000
END:DAYLIGHT
BEGIN:STANDARD
TZOFFSETFROM:+0200
TZOFFSETTO:+0100
TZNAME:CET
DTSTART:20261025T010000
END:STANDARD
END:VTIMEZONE
BEGIN:VEVENT
DTSTART;TZID=Europe/Berlin:20250324T183000
DTEND;TZID=Europe/Berlin:20250324T190000
DTSTAMP:20260421T123957
CREATED:20240730T081057Z
LAST-MODIFIED:20250114T200628Z
UID:10005466-1742841000-1742842800@online-erlebnis.net
SUMMARY:Feier-Abend-Lach-Club
DESCRIPTION:Ich schenke allen Menschen\, die einfach mal ein Lachen und Zeit zum Durchatmen brauchen\, das kostenlose  \nwertvolle Feier-Abend-Lachen jeden Montag. \nEntdecke die Freude und Leichtigkeit beim Lachyoga. Tauche ein in eine Zeit voller Lachen\, Entspannung und positiver Energie. \nPerfekt für alle\, die Stress abbauen\, ihre Stimmung heben und ihr Wohlbefinden steigern möchten. \nDer Lach-Beitrag ist kostenfrei – jeder soll mit lachen. \nHier der Link zum Feier-Abend-Lach-Club jeden Montag 18.25 bis 18.55 Uhr \nhttps://us06web.zoom.us/j/87082941601?pwd=R9bbbZnP7hUPObBaEfwf4lIXTWve59.1 \nSei dabei und erlebe\, wie dein Leben leichter wird\, durch regelmäßige Praxis wirkt es besonders. \nIch freue mich auf DICH\, Junia
URL:https://online-erlebnis.net/kalender/feier-abend-lach-club/2025-03-24/
ATTACH;FMTTYPE=image/jpeg:https://online-erlebnis.net/wp-content/uploads/2024/04/photo_2024-04-18_14-11-05.jpg
ORGANIZER;CN="Junia Gutjahr":MAILTO:Junia-Gutjahr@web.de
END:VEVENT
BEGIN:VEVENT
DTSTART;TZID=Europe/Berlin:20250324T193000
DTEND;TZID=Europe/Berlin:20250324T203000
DTSTAMP:20260421T123957
CREATED:20250226T113107Z
LAST-MODIFIED:20250226T113107Z
UID:10006934-1742844600-1742848200@online-erlebnis.net
SUMMARY:HERZensRAUM
DESCRIPTION:Der Herzensraum öffnet seine Türen aller 3 Wochen am Montag von 19:30 bis 20:30 Uhr. Dieser Raum ist ein geschützter Begegnungs- und Heilungsraum. Wir laden dich ein\, mit uns das zu teilen\, was gerade da ist und gesprochen werden will. Du kannst auch gern nur zuhören. In diesem Raum wird nichts bewertet\, es gibt keine guten Ratschläge (außer du willst es)\, alles darf da sein. Die Teilnahme ist gratis. \nEs geht um echtes\, wahrhaftiges Zeigen all dessen\, was gerade in uns los ist. \nWie Verurteilung und Schuldzuweisung geht\, haben wir in Perfektion geübt. Raus aus den alten Schuhen. Unser Herzenswunsch ist es\, zu üben\, wie Verbundenheit und Gleichwertigkeit gelebt werden. Wir sind alle Anfänger und es bedarf ein bisschen Übung\, weil wir bisher so völlig anders miteinander umgegangen sind. Es ist Zeit dafür\, umzukehren\, zum liebevollen Weg. \nWie wäre es\,  wenn da Menschen wären\, die dir Raum geben für alles\, was gerade in dir da ist. Wie wäre es\, wenn du ehrlich und authentisch ausdrücken könntest\, was in jedem Moment in dir los ist\, wenn du DU selbst sein kannst? Wie wäre es\, wenn du nicht so tun müsstest\, als ginge es dir gut\, wenn es nicht so ist? \nLasst uns nicht mehr hinter unseren Masken verstecken und uns wahrhaftig begegnen. \nGerne nehmen wir Themen auf\, über die ihr euch austauschen wollt. \nWenn du Struktur und Konzept erwartest\, ist das möglicherweise nicht der richtige Raum für dich. Uns geht es darum\, gemeinsam mit euch etwas Neues zu erschaffen\, indem jeder sich einbringt\, mit dem\, was er zu geben hat. Ein lockerer\, ungezwungener Austausch über das\, was uns gerade bewegt\, ist uns wichtig. \nKomm\, wie du bist. Wir freuen uns auf dich. \nHerzlichst \nUte & Petra & Gabriele \n  \nHier gehts zum Zoomraum\n\nMeeting-ID: 871 6490 3101 \n\n  \nWir möchten Euch hier die Möglichkeit geben etwas Geld in unsere Kaffeekasse zu werfen. \n„Geben und empfangen sind eins.“ \nFinanzielle Wertschätzung\nNur was von Herzen kommt kann sich ausdehnen. Wir danken von Herzen.\n(Wir bezahlen damit unsere Social-Media-Werkzeuge und Programme\, wie z.B. Zoom Pro\, somit haben wir mehr als nur 40min. Raumzeit zur Verfügung.) \nHerzlichst \nUte & Petra & Gabriele \nAnleitung zum Ausdrucken für das HERZensRaum-Begleitheft \nBegleitheft A4 \nBegleitheft A5
URL:https://online-erlebnis.net/kalender/herzensraum-7/2025-03-24/
LOCATION:Online Zoom
ATTACH;FMTTYPE=image/png:https://online-erlebnis.net/wp-content/uploads/2025/02/1024x385-HR-mit-Fotos-lila-Voegel_03.03.2025.png
ORGANIZER;CN="HERZensRAUM":MAILTO:herzensraum@gmx.de
END:VEVENT
BEGIN:VEVENT
DTSTART;TZID=Europe/Berlin:20250326T193000
DTEND;TZID=Europe/Berlin:20250326T203000
DTSTAMP:20260421T123957
CREATED:20250226T113945Z
LAST-MODIFIED:20250226T120220Z
UID:10007022-1743017400-1743021000@online-erlebnis.net
SUMMARY:WUNDERvoller HERZensRAUM (Ein Kurs in Wundern)
DESCRIPTION:Wir tauchen in die Lehren des Buches „Ein Kurs in Wundern“ ein. Wir teilen unsere Erfahrungen damit\, in diesem Raum\, ganz praxisnah. Komm einfach dazu. Du brauchst keine Grundkenntnisse. \nWas wäre\, wenn es “einfach” nur eines anderen Denkens bedarf\, damit wir all dem Elend\, dem Kummer und dem Schmerz dieser Welt entkommen können? Was wäre\, wenn Leben total anders gemeint ist\, als wir es leben? Petra\, Ute und Gabriele brennen dafür\, diese andere Art\, die Welt zu betrachten\, mit euch zu üben. \nEinladung zum Wunder Wirkshop. Wir treffen uns im WUNDERvollen Herzensraum\, um gemeinsam zu lernen\, die Stimme der Liebe zu hören\, bzw. unser Bewusstsein zu schärfen\, damit wir immer mehr unserer inneren Stimme vertrauen. Alle\, die unseren Raum betreten\, sind gleichzeitig Lehrer und Schüler. Das trifft genau so auf uns zu\, die wir den Raum öffnen. Wir können alle viel voneinander lernen. \nWir öffnen unsere Herzen und unseren Zoom Raum für euch alle 3 Wochen am Mittwoch von  19:30 Uhr bis 20:30 Uhr. \nZugang zum Zoomraum \nMeeting-ID: 813 7084 3631 \nWir möchten Euch hier die Möglichkeit geben etwas Geld in unsere Kaffeekasse zu werfen. \n„Geben und empfangen sind eins.“ \nFinanzielle Wertschätzung \nNur was von Herzen kommt kann sich ausdehnen. Wir danken von Herzen.\n(Wir bezahlen damit unsere Social-Media-Werkzeuge und Programme\, wie z.B. Zoom Pro\, somit haben wir mehr als nur 40min. Raumzeit zur Verfügung.) \nHerzlichst \nPetra\, Ute und Gabriele
URL:https://online-erlebnis.net/kalender/wundervoller-herzensraum-ein-kurs-in-wundern-21/2025-03-26/
LOCATION:Online Zoom
ATTACH;FMTTYPE=image/png:https://online-erlebnis.net/wp-content/uploads/2025/02/1920x1080-EKIW-Buch-Taube.png
ORGANIZER;CN="Petra & Ute - Ein Kurs in Wundern":MAILTO:erinneredich@mail.com
END:VEVENT
BEGIN:VEVENT
DTSTART;TZID=Europe/Berlin:20250328T183000
DTEND;TZID=Europe/Berlin:20250328T193000
DTSTAMP:20260421T123957
CREATED:20240910T103244Z
LAST-MODIFIED:20240926T180554Z
UID:10006440-1743186600-1743190200@online-erlebnis.net
SUMMARY:🐛Transformation für dein wahres Sein 🦋
DESCRIPTION:🐛Transformation für dein wahres sein🦋\nDas erwartet Dich im Wirkshop: \nIch möchte es jedem Menschen ermöglichen\, sich selbstbewusst zu fühlen um dich auf die nächste Stufe zu bringen\, indem wir Schritt für Schritt  schauen was du wirklich\, wirklich willst. \n✏️Was wäre\, wenn es auch anders geht? \n✏️Woran würdest du merken\, dass du bereit bist\, dein Leben selbstbestimmt zu gestalten? \n✏️Bist du bereit\, Verantwortung zu übernehmen für all das\, was in deinem Leben geschieht und nicht mehr die Schuld bei anderen oder im Außen zu suchen? \n🦋Für mehr Selbstliebe\, Selbstwert\, Vertrauen\,  \n      Lebensfreude  \n🦋Um zu erkennen wer du wahrhaftig bist  \n🦋Um ganzheitlich Heil zu sein \n🦋Um Frieden\, Glück \, Fülle und Leichtigkeit zu      \n      erfahren.  \nAm Ende des Workshop bekommt jeder Teilnehmer ein Geschenk 🌞 \nIch bin Gesundheitspädagogin und Schamanin der Neuzeit\nIm Laufe meines Lebens habe ich sehr viele Heiltechniken aus verschiedenen Ländern gelernt\, die ich bei meiner Ursprungsarbeit\, je nach Bedarf mit einsetze. \nMeine Mission: \nDich durch tiefe Transformationsprozesse zu bringen um in Selbstheilung und Bewusstwerdung zu gehen\, um Dein wahres Selbst zu erkennen . \nErkenne\, wachse und verstehe\, im Hier und Jetzt was du brauchst\, um das Leben auf allen Ebenen frei\, glücklich und gesund Leben zu können. \nzum WIRKshop klicke hier
URL:https://online-erlebnis.net/kalender/%f0%9f%90%9btransformation-fuer-dein-wahres-sein-%f0%9f%a6%8b-2/2025-03-28/
LOCATION:Online Zoom
CATEGORIES:🐛Transformationsgespräche🦋
ATTACH;FMTTYPE=image/png:https://online-erlebnis.net/wp-content/uploads/2024/04/7178D1BB-6703-4EDA-A042-35E1797DCE6C.png
ORGANIZER;CN="kirstenDay":MAILTO:life.in.balance@web.de
END:VEVENT
END:VCALENDAR