BEGIN:VCALENDAR
VERSION:2.0
PRODID:-//WUNDERbare MÖGLICHkeiten - Online Erlebnisse - ECPv6.15.20//NONSGML v1.0//EN
CALSCALE:GREGORIAN
METHOD:PUBLISH
X-ORIGINAL-URL:https://online-erlebnis.net
X-WR-CALDESC:Veranstaltungen für WUNDERbare MÖGLICHkeiten - Online Erlebnisse
REFRESH-INTERVAL;VALUE=DURATION:PT1H
X-Robots-Tag:noindex
X-PUBLISHED-TTL:PT1H
BEGIN:VTIMEZONE
TZID:Europe/Berlin
BEGIN:DAYLIGHT
TZOFFSETFROM:+0100
TZOFFSETTO:+0200
TZNAME:CEST
DTSTART:20240331T010000
END:DAYLIGHT
BEGIN:STANDARD
TZOFFSETFROM:+0200
TZOFFSETTO:+0100
TZNAME:CET
DTSTART:20241027T010000
END:STANDARD
BEGIN:DAYLIGHT
TZOFFSETFROM:+0100
TZOFFSETTO:+0200
TZNAME:CEST
DTSTART:20250330T010000
END:DAYLIGHT
BEGIN:STANDARD
TZOFFSETFROM:+0200
TZOFFSETTO:+0100
TZNAME:CET
DTSTART:20251026T010000
END:STANDARD
BEGIN:DAYLIGHT
TZOFFSETFROM:+0100
TZOFFSETTO:+0200
TZNAME:CEST
DTSTART:20260329T010000
END:DAYLIGHT
BEGIN:STANDARD
TZOFFSETFROM:+0200
TZOFFSETTO:+0100
TZNAME:CET
DTSTART:20261025T010000
END:STANDARD
END:VTIMEZONE
BEGIN:VEVENT
DTSTART;TZID=Europe/Berlin:20250407T183000
DTEND;TZID=Europe/Berlin:20250407T190000
DTSTAMP:20260422T035331
CREATED:20240730T081057Z
LAST-MODIFIED:20250114T200628Z
UID:10005468-1744050600-1744052400@online-erlebnis.net
SUMMARY:Feier-Abend-Lach-Club
DESCRIPTION:Ich schenke allen Menschen\, die einfach mal ein Lachen und Zeit zum Durchatmen brauchen\, das kostenlose  \nwertvolle Feier-Abend-Lachen jeden Montag. \nEntdecke die Freude und Leichtigkeit beim Lachyoga. Tauche ein in eine Zeit voller Lachen\, Entspannung und positiver Energie. \nPerfekt für alle\, die Stress abbauen\, ihre Stimmung heben und ihr Wohlbefinden steigern möchten. \nDer Lach-Beitrag ist kostenfrei – jeder soll mit lachen. \nHier der Link zum Feier-Abend-Lach-Club jeden Montag 18.25 bis 18.55 Uhr \nhttps://us06web.zoom.us/j/87082941601?pwd=R9bbbZnP7hUPObBaEfwf4lIXTWve59.1 \nSei dabei und erlebe\, wie dein Leben leichter wird\, durch regelmäßige Praxis wirkt es besonders. \nIch freue mich auf DICH\, Junia
URL:https://online-erlebnis.net/kalender/feier-abend-lach-club/2025-04-07/
ATTACH;FMTTYPE=image/jpeg:https://online-erlebnis.net/wp-content/uploads/2024/04/photo_2024-04-18_14-11-05.jpg
ORGANIZER;CN="Junia Gutjahr":MAILTO:Junia-Gutjahr@web.de
END:VEVENT
BEGIN:VEVENT
DTSTART;TZID=Europe/Berlin:20250408T200000
DTEND;TZID=Europe/Berlin:20250408T210000
DTSTAMP:20260422T035331
CREATED:20250301T133851Z
LAST-MODIFIED:20250521T181942Z
UID:10007122-1744142400-1744146000@online-erlebnis.net
SUMMARY:Entfessle deine innere Stärke!
DESCRIPTION:In einer Zeit\, die von überflutenden Informationen und oft überfordernden äußeren Einflüssen geprägt ist und Gefühle wie Unsicherheit und Ängste (oft unbewusst) die eigene Potenzial-Entfaltung\, Erfüllung und Heilung blockieren\, ist es von unschätzbarem Wert\, wenn wir unsere „inneren Kraftquellen“ entdecken und unser Leben damit bereichern.\nIm Workshop beschäftigen wir uns deshalb mit diesen Schwerpunkten:\nVerstehe\, was es für dein Leben bedeutet\, Schöpfer deiner eigenen Realität zu sein und Verantwortung dafür zu übernehmen.\nEntdecke und nutze Deine innere wahre Kraft. Lerne\, wie du für dich klare Absichten/Entscheidungen triffst und deine Wünsche\, Bedürfnisse und Ziele aktiv verfolgen kannst\, unabhängig von äußeren Umständen.\nErreiche mehr Selbst-Erkenntnis\, Selbst-bewusst-sein\, Selbst-Sicherheit\, Selbst-Vertrauen als Basis für ein freies\, selbstbestimmtes Leben.\nErkenne dein wahres Potenzial und entfalte deine Bestimmung. Damit bereicherst du dein Leben und dein Umfeld und kannst außerdem deine Selbstheilung positiv beeinflussen.\nDer Workshop wird interaktiv gestaltet. Ich freue mich deshalb auf einen inspirierenden Austausch mit euch.\n\n\n>>Zum Zoomraum: Hier klicken
URL:https://online-erlebnis.net/kalender/entfessle-deine-innere-staerke-2-2/2025-04-08/
LOCATION:Online Zoom
ATTACH;FMTTYPE=image/png:https://online-erlebnis.net/wp-content/uploads/2024/05/Entfessle-deine-innere-Staerke_Neutral-1.png
END:VEVENT
END:VCALENDAR