BEGIN:VCALENDAR
VERSION:2.0
PRODID:-//WUNDERbare MÖGLICHkeiten - Online Erlebnisse - ECPv6.15.20//NONSGML v1.0//EN
CALSCALE:GREGORIAN
METHOD:PUBLISH
X-ORIGINAL-URL:https://online-erlebnis.net
X-WR-CALDESC:Veranstaltungen für WUNDERbare MÖGLICHkeiten - Online Erlebnisse
REFRESH-INTERVAL;VALUE=DURATION:PT1H
X-Robots-Tag:noindex
X-PUBLISHED-TTL:PT1H
BEGIN:VTIMEZONE
TZID:Europe/Berlin
BEGIN:DAYLIGHT
TZOFFSETFROM:+0100
TZOFFSETTO:+0200
TZNAME:CEST
DTSTART:20240331T010000
END:DAYLIGHT
BEGIN:STANDARD
TZOFFSETFROM:+0200
TZOFFSETTO:+0100
TZNAME:CET
DTSTART:20241027T010000
END:STANDARD
BEGIN:DAYLIGHT
TZOFFSETFROM:+0100
TZOFFSETTO:+0200
TZNAME:CEST
DTSTART:20250330T010000
END:DAYLIGHT
BEGIN:STANDARD
TZOFFSETFROM:+0200
TZOFFSETTO:+0100
TZNAME:CET
DTSTART:20251026T010000
END:STANDARD
BEGIN:DAYLIGHT
TZOFFSETFROM:+0100
TZOFFSETTO:+0200
TZNAME:CEST
DTSTART:20260329T010000
END:DAYLIGHT
BEGIN:STANDARD
TZOFFSETFROM:+0200
TZOFFSETTO:+0100
TZNAME:CET
DTSTART:20261025T010000
END:STANDARD
BEGIN:DAYLIGHT
TZOFFSETFROM:+0100
TZOFFSETTO:+0200
TZNAME:CEST
DTSTART:20270328T010000
END:DAYLIGHT
BEGIN:STANDARD
TZOFFSETFROM:+0200
TZOFFSETTO:+0100
TZNAME:CET
DTSTART:20271031T010000
END:STANDARD
END:VTIMEZONE
BEGIN:VEVENT
DTSTART;TZID=Europe/Berlin:20260131T110000
DTEND;TZID=Europe/Berlin:20260131T120000
DTSTAMP:20260421T174951
CREATED:20251220T121828Z
LAST-MODIFIED:20260117T184552Z
UID:10007978-1769857200-1769860800@online-erlebnis.net
SUMMARY:Eltern lernen\, ihre Kinder zu verstehen 🌞
DESCRIPTION:💫 Eltern lernen\, Kinder zu verstehen \nFür eine starke Bindung\, echte Kommunikation & gesunde Entwicklung \nWir sind:\n👩‍🏫 Manuela – Mentale Fitness Trainerin für starke Kinder & Impulsgeberin für ganzheitliche Gesundheit\n👩‍⚕️ Kirsten – Gesundheitspädagogin\, Eltern- & Kind-Coach\, Expertin für Laut – Gebärdensprache (Babyzeichensprache) \, Kindersport & Entspannung für Groß und Klein \nUnsere gemeinsame Mission: \nWir begleiten Eltern dabei\, ihre Kinder wieder wirklich zu verstehen – mit Herz\, Klarheit und einem ganzheitlichen Blick. \nDenn echte Verbindung entsteht nicht durch Erziehung von oben\, sondern durch bewusste Kommunikation\, Achtsamkeit und ein tiefes Verständnis füreinander.\nNur wenn wir als Eltern die Bedürfnisse\, Gefühle und Ausdrucksweisen unserer Kinder erkennen\, können wir ihnen den sicheren Raum geben\, in dem sie wachsen\, sich entfalten und vertrauen können. \n🔸 Starke Bindung statt ständiger Konflikt\n🔸 Klarheit im Umgang mit kindlichen Bedürfnissen\n🔸 Kommunikation auf Augenhöhe – von Herz zu Herz\n🔸 Ganzheitliche Impulse für Körper\, Geist & Seele \nLasst uns gemeinsam Brücken bauen – zwischen den Generationen\, zwischen Kopf und Herz\, zwischen Eltern und Kind. \nzum Wikshop geht es hier https://us06web.zoom.us/j/82121074244?pwd=oS6cH5yySEfBIa3fb2bdgUKn3yQ1mx.1
URL:https://online-erlebnis.net/kalender/eltern-lernen-ihre-kinder-zu-verstehen-%f0%9f%8c%9e-2/
CATEGORIES:Kinder zu verstehen 🌞
ATTACH;FMTTYPE=image/png:https://online-erlebnis.net/wp-content/uploads/2025/07/Eltern-lernen-1600-x-900-px.png
END:VEVENT
BEGIN:VEVENT
DTSTART;TZID=Europe/Berlin:20251206T110000
DTEND;TZID=Europe/Berlin:20251206T120000
DTSTAMP:20260421T174951
CREATED:20250722T114612Z
LAST-MODIFIED:20251016T125758Z
UID:10007977-1765018800-1765022400@online-erlebnis.net
SUMMARY:Eltern lernen\, ihre Kinder zu verstehen 🌞
DESCRIPTION:💫 Eltern lernen\, Kinder zu verstehen \nFür eine starke Bindung\, echte Kommunikation & gesunde Entwicklung \nWir sind:\n👩‍🏫 Manuela – Mentale Fitness Trainerin für starke Kinder & Impulsgeberin für ganzheitliche Gesundheit\n👩‍⚕️ Kirsten – Gesundheitspädagogin\, Eltern- & Kind-Coach\, Expertin für Laut – Gebärdensprache (Babyzeichensprache) \, Kindersport & Entspannung für Groß und Klein \nUnsere gemeinsame Mission: \nWir begleiten Eltern dabei\, ihre Kinder wieder wirklich zu verstehen – mit Herz\, Klarheit und einem ganzheitlichen Blick. \nDenn echte Verbindung entsteht nicht durch Erziehung von oben\, sondern durch bewusste Kommunikation\, Achtsamkeit und ein tiefes Verständnis füreinander.\nNur wenn wir als Eltern die Bedürfnisse\, Gefühle und Ausdrucksweisen unserer Kinder erkennen\, können wir ihnen den sicheren Raum geben\, in dem sie wachsen\, sich entfalten und vertrauen können. \n🔸 Starke Bindung statt ständiger Konflikt\n🔸 Klarheit im Umgang mit kindlichen Bedürfnissen\n🔸 Kommunikation auf Augenhöhe – von Herz zu Herz\n🔸 Ganzheitliche Impulse für Körper\, Geist & Seele \nLasst uns gemeinsam Brücken bauen – zwischen den Generationen\, zwischen Kopf und Herz\, zwischen Eltern und Kind. \nzum Wikshop geht es hier https://us06web.zoom.us/j/82121074244?pwd=oS6cH5yySEfBIa3fb2bdgUKn3yQ1mx.1
URL:https://online-erlebnis.net/kalender/eltern-lernen-ihre-kinder-zu-verstehen-%f0%9f%8c%9e/2025-12-06/
CATEGORIES:Kinder zu verstehen 🌞
ATTACH;FMTTYPE=image/png:https://online-erlebnis.net/wp-content/uploads/2025/07/Eltern-lernen-1600-x-900-px.png
END:VEVENT
BEGIN:VEVENT
DTSTART;TZID=Europe/Berlin:20251129T110000
DTEND;TZID=Europe/Berlin:20251129T120000
DTSTAMP:20260421T174951
CREATED:20250722T114612Z
LAST-MODIFIED:20251016T125758Z
UID:10007976-1764414000-1764417600@online-erlebnis.net
SUMMARY:Eltern lernen\, ihre Kinder zu verstehen 🌞
DESCRIPTION:💫 Eltern lernen\, Kinder zu verstehen \nFür eine starke Bindung\, echte Kommunikation & gesunde Entwicklung \nWir sind:\n👩‍🏫 Manuela – Mentale Fitness Trainerin für starke Kinder & Impulsgeberin für ganzheitliche Gesundheit\n👩‍⚕️ Kirsten – Gesundheitspädagogin\, Eltern- & Kind-Coach\, Expertin für Laut – Gebärdensprache (Babyzeichensprache) \, Kindersport & Entspannung für Groß und Klein \nUnsere gemeinsame Mission: \nWir begleiten Eltern dabei\, ihre Kinder wieder wirklich zu verstehen – mit Herz\, Klarheit und einem ganzheitlichen Blick. \nDenn echte Verbindung entsteht nicht durch Erziehung von oben\, sondern durch bewusste Kommunikation\, Achtsamkeit und ein tiefes Verständnis füreinander.\nNur wenn wir als Eltern die Bedürfnisse\, Gefühle und Ausdrucksweisen unserer Kinder erkennen\, können wir ihnen den sicheren Raum geben\, in dem sie wachsen\, sich entfalten und vertrauen können. \n🔸 Starke Bindung statt ständiger Konflikt\n🔸 Klarheit im Umgang mit kindlichen Bedürfnissen\n🔸 Kommunikation auf Augenhöhe – von Herz zu Herz\n🔸 Ganzheitliche Impulse für Körper\, Geist & Seele \nLasst uns gemeinsam Brücken bauen – zwischen den Generationen\, zwischen Kopf und Herz\, zwischen Eltern und Kind. \nzum Wikshop geht es hier https://us06web.zoom.us/j/82121074244?pwd=oS6cH5yySEfBIa3fb2bdgUKn3yQ1mx.1
URL:https://online-erlebnis.net/kalender/eltern-lernen-ihre-kinder-zu-verstehen-%f0%9f%8c%9e/2025-11-29/
CATEGORIES:Kinder zu verstehen 🌞
ATTACH;FMTTYPE=image/png:https://online-erlebnis.net/wp-content/uploads/2025/07/Eltern-lernen-1600-x-900-px.png
END:VEVENT
BEGIN:VEVENT
DTSTART;TZID=Europe/Berlin:20251115T110000
DTEND;TZID=Europe/Berlin:20251115T120000
DTSTAMP:20260421T174951
CREATED:20250722T114612Z
LAST-MODIFIED:20251016T125758Z
UID:10007975-1763204400-1763208000@online-erlebnis.net
SUMMARY:Eltern lernen\, ihre Kinder zu verstehen 🌞
DESCRIPTION:💫 Eltern lernen\, Kinder zu verstehen \nFür eine starke Bindung\, echte Kommunikation & gesunde Entwicklung \nWir sind:\n👩‍🏫 Manuela – Mentale Fitness Trainerin für starke Kinder & Impulsgeberin für ganzheitliche Gesundheit\n👩‍⚕️ Kirsten – Gesundheitspädagogin\, Eltern- & Kind-Coach\, Expertin für Laut – Gebärdensprache (Babyzeichensprache) \, Kindersport & Entspannung für Groß und Klein \nUnsere gemeinsame Mission: \nWir begleiten Eltern dabei\, ihre Kinder wieder wirklich zu verstehen – mit Herz\, Klarheit und einem ganzheitlichen Blick. \nDenn echte Verbindung entsteht nicht durch Erziehung von oben\, sondern durch bewusste Kommunikation\, Achtsamkeit und ein tiefes Verständnis füreinander.\nNur wenn wir als Eltern die Bedürfnisse\, Gefühle und Ausdrucksweisen unserer Kinder erkennen\, können wir ihnen den sicheren Raum geben\, in dem sie wachsen\, sich entfalten und vertrauen können. \n🔸 Starke Bindung statt ständiger Konflikt\n🔸 Klarheit im Umgang mit kindlichen Bedürfnissen\n🔸 Kommunikation auf Augenhöhe – von Herz zu Herz\n🔸 Ganzheitliche Impulse für Körper\, Geist & Seele \nLasst uns gemeinsam Brücken bauen – zwischen den Generationen\, zwischen Kopf und Herz\, zwischen Eltern und Kind. \nzum Wikshop geht es hier https://us06web.zoom.us/j/82121074244?pwd=oS6cH5yySEfBIa3fb2bdgUKn3yQ1mx.1
URL:https://online-erlebnis.net/kalender/eltern-lernen-ihre-kinder-zu-verstehen-%f0%9f%8c%9e/2025-11-15/
CATEGORIES:Kinder zu verstehen 🌞
ATTACH;FMTTYPE=image/png:https://online-erlebnis.net/wp-content/uploads/2025/07/Eltern-lernen-1600-x-900-px.png
END:VEVENT
BEGIN:VEVENT
DTSTART;TZID=Europe/Berlin:20251011T110000
DTEND;TZID=Europe/Berlin:20251011T120000
DTSTAMP:20260421T174951
CREATED:20250722T114612Z
LAST-MODIFIED:20251016T125758Z
UID:10007973-1760180400-1760184000@online-erlebnis.net
SUMMARY:Eltern lernen\, ihre Kinder zu verstehen 🌞
DESCRIPTION:💫 Eltern lernen\, Kinder zu verstehen \nFür eine starke Bindung\, echte Kommunikation & gesunde Entwicklung \nWir sind:\n👩‍🏫 Manuela – Mentale Fitness Trainerin für starke Kinder & Impulsgeberin für ganzheitliche Gesundheit\n👩‍⚕️ Kirsten – Gesundheitspädagogin\, Eltern- & Kind-Coach\, Expertin für Laut – Gebärdensprache (Babyzeichensprache) \, Kindersport & Entspannung für Groß und Klein \nUnsere gemeinsame Mission: \nWir begleiten Eltern dabei\, ihre Kinder wieder wirklich zu verstehen – mit Herz\, Klarheit und einem ganzheitlichen Blick. \nDenn echte Verbindung entsteht nicht durch Erziehung von oben\, sondern durch bewusste Kommunikation\, Achtsamkeit und ein tiefes Verständnis füreinander.\nNur wenn wir als Eltern die Bedürfnisse\, Gefühle und Ausdrucksweisen unserer Kinder erkennen\, können wir ihnen den sicheren Raum geben\, in dem sie wachsen\, sich entfalten und vertrauen können. \n🔸 Starke Bindung statt ständiger Konflikt\n🔸 Klarheit im Umgang mit kindlichen Bedürfnissen\n🔸 Kommunikation auf Augenhöhe – von Herz zu Herz\n🔸 Ganzheitliche Impulse für Körper\, Geist & Seele \nLasst uns gemeinsam Brücken bauen – zwischen den Generationen\, zwischen Kopf und Herz\, zwischen Eltern und Kind. \nzum Wikshop geht es hier https://us06web.zoom.us/j/82121074244?pwd=oS6cH5yySEfBIa3fb2bdgUKn3yQ1mx.1
URL:https://online-erlebnis.net/kalender/eltern-lernen-ihre-kinder-zu-verstehen-%f0%9f%8c%9e/2025-10-11/
CATEGORIES:Kinder zu verstehen 🌞
ATTACH;FMTTYPE=image/png:https://online-erlebnis.net/wp-content/uploads/2025/07/Eltern-lernen-1600-x-900-px.png
END:VEVENT
BEGIN:VEVENT
DTSTART;TZID=Europe/Berlin:20250920T110000
DTEND;TZID=Europe/Berlin:20250920T120000
DTSTAMP:20260421T174951
CREATED:20250722T114612Z
LAST-MODIFIED:20251016T125758Z
UID:10007972-1758366000-1758369600@online-erlebnis.net
SUMMARY:Eltern lernen\, ihre Kinder zu verstehen 🌞
DESCRIPTION:💫 Eltern lernen\, Kinder zu verstehen \nFür eine starke Bindung\, echte Kommunikation & gesunde Entwicklung \nWir sind:\n👩‍🏫 Manuela – Mentale Fitness Trainerin für starke Kinder & Impulsgeberin für ganzheitliche Gesundheit\n👩‍⚕️ Kirsten – Gesundheitspädagogin\, Eltern- & Kind-Coach\, Expertin für Laut – Gebärdensprache (Babyzeichensprache) \, Kindersport & Entspannung für Groß und Klein \nUnsere gemeinsame Mission: \nWir begleiten Eltern dabei\, ihre Kinder wieder wirklich zu verstehen – mit Herz\, Klarheit und einem ganzheitlichen Blick. \nDenn echte Verbindung entsteht nicht durch Erziehung von oben\, sondern durch bewusste Kommunikation\, Achtsamkeit und ein tiefes Verständnis füreinander.\nNur wenn wir als Eltern die Bedürfnisse\, Gefühle und Ausdrucksweisen unserer Kinder erkennen\, können wir ihnen den sicheren Raum geben\, in dem sie wachsen\, sich entfalten und vertrauen können. \n🔸 Starke Bindung statt ständiger Konflikt\n🔸 Klarheit im Umgang mit kindlichen Bedürfnissen\n🔸 Kommunikation auf Augenhöhe – von Herz zu Herz\n🔸 Ganzheitliche Impulse für Körper\, Geist & Seele \nLasst uns gemeinsam Brücken bauen – zwischen den Generationen\, zwischen Kopf und Herz\, zwischen Eltern und Kind. \nzum Wikshop geht es hier https://us06web.zoom.us/j/82121074244?pwd=oS6cH5yySEfBIa3fb2bdgUKn3yQ1mx.1
URL:https://online-erlebnis.net/kalender/eltern-lernen-ihre-kinder-zu-verstehen-%f0%9f%8c%9e/2025-09-20/
CATEGORIES:Kinder zu verstehen 🌞
ATTACH;FMTTYPE=image/png:https://online-erlebnis.net/wp-content/uploads/2025/07/Eltern-lernen-1600-x-900-px.png
END:VEVENT
BEGIN:VEVENT
DTSTART;TZID=Europe/Berlin:20250906T110000
DTEND;TZID=Europe/Berlin:20250906T120000
DTSTAMP:20260421T174951
CREATED:20250722T114612Z
LAST-MODIFIED:20251016T125758Z
UID:10007971-1757156400-1757160000@online-erlebnis.net
SUMMARY:Eltern lernen\, ihre Kinder zu verstehen 🌞
DESCRIPTION:💫 Eltern lernen\, Kinder zu verstehen \nFür eine starke Bindung\, echte Kommunikation & gesunde Entwicklung \nWir sind:\n👩‍🏫 Manuela – Mentale Fitness Trainerin für starke Kinder & Impulsgeberin für ganzheitliche Gesundheit\n👩‍⚕️ Kirsten – Gesundheitspädagogin\, Eltern- & Kind-Coach\, Expertin für Laut – Gebärdensprache (Babyzeichensprache) \, Kindersport & Entspannung für Groß und Klein \nUnsere gemeinsame Mission: \nWir begleiten Eltern dabei\, ihre Kinder wieder wirklich zu verstehen – mit Herz\, Klarheit und einem ganzheitlichen Blick. \nDenn echte Verbindung entsteht nicht durch Erziehung von oben\, sondern durch bewusste Kommunikation\, Achtsamkeit und ein tiefes Verständnis füreinander.\nNur wenn wir als Eltern die Bedürfnisse\, Gefühle und Ausdrucksweisen unserer Kinder erkennen\, können wir ihnen den sicheren Raum geben\, in dem sie wachsen\, sich entfalten und vertrauen können. \n🔸 Starke Bindung statt ständiger Konflikt\n🔸 Klarheit im Umgang mit kindlichen Bedürfnissen\n🔸 Kommunikation auf Augenhöhe – von Herz zu Herz\n🔸 Ganzheitliche Impulse für Körper\, Geist & Seele \nLasst uns gemeinsam Brücken bauen – zwischen den Generationen\, zwischen Kopf und Herz\, zwischen Eltern und Kind. \nzum Wikshop geht es hier https://us06web.zoom.us/j/82121074244?pwd=oS6cH5yySEfBIa3fb2bdgUKn3yQ1mx.1
URL:https://online-erlebnis.net/kalender/eltern-lernen-ihre-kinder-zu-verstehen-%f0%9f%8c%9e/2025-09-06/
CATEGORIES:Kinder zu verstehen 🌞
ATTACH;FMTTYPE=image/png:https://online-erlebnis.net/wp-content/uploads/2025/07/Eltern-lernen-1600-x-900-px.png
END:VEVENT
BEGIN:VEVENT
DTSTART;TZID=Europe/Berlin:20250830T110000
DTEND;TZID=Europe/Berlin:20250830T120000
DTSTAMP:20260421T174951
CREATED:20250722T114612Z
LAST-MODIFIED:20251016T125758Z
UID:10007970-1756551600-1756555200@online-erlebnis.net
SUMMARY:Eltern lernen\, ihre Kinder zu verstehen 🌞
DESCRIPTION:💫 Eltern lernen\, Kinder zu verstehen \nFür eine starke Bindung\, echte Kommunikation & gesunde Entwicklung \nWir sind:\n👩‍🏫 Manuela – Mentale Fitness Trainerin für starke Kinder & Impulsgeberin für ganzheitliche Gesundheit\n👩‍⚕️ Kirsten – Gesundheitspädagogin\, Eltern- & Kind-Coach\, Expertin für Laut – Gebärdensprache (Babyzeichensprache) \, Kindersport & Entspannung für Groß und Klein \nUnsere gemeinsame Mission: \nWir begleiten Eltern dabei\, ihre Kinder wieder wirklich zu verstehen – mit Herz\, Klarheit und einem ganzheitlichen Blick. \nDenn echte Verbindung entsteht nicht durch Erziehung von oben\, sondern durch bewusste Kommunikation\, Achtsamkeit und ein tiefes Verständnis füreinander.\nNur wenn wir als Eltern die Bedürfnisse\, Gefühle und Ausdrucksweisen unserer Kinder erkennen\, können wir ihnen den sicheren Raum geben\, in dem sie wachsen\, sich entfalten und vertrauen können. \n🔸 Starke Bindung statt ständiger Konflikt\n🔸 Klarheit im Umgang mit kindlichen Bedürfnissen\n🔸 Kommunikation auf Augenhöhe – von Herz zu Herz\n🔸 Ganzheitliche Impulse für Körper\, Geist & Seele \nLasst uns gemeinsam Brücken bauen – zwischen den Generationen\, zwischen Kopf und Herz\, zwischen Eltern und Kind. \nzum Wikshop geht es hier https://us06web.zoom.us/j/82121074244?pwd=oS6cH5yySEfBIa3fb2bdgUKn3yQ1mx.1
URL:https://online-erlebnis.net/kalender/eltern-lernen-ihre-kinder-zu-verstehen-%f0%9f%8c%9e/2025-08-30/
CATEGORIES:Kinder zu verstehen 🌞
ATTACH;FMTTYPE=image/png:https://online-erlebnis.net/wp-content/uploads/2025/07/Eltern-lernen-1600-x-900-px.png
END:VEVENT
BEGIN:VEVENT
DTSTART;TZID=Europe/Berlin:20250802T110000
DTEND;TZID=Europe/Berlin:20250802T120000
DTSTAMP:20260421T174951
CREATED:20250722T114612Z
LAST-MODIFIED:20251016T125758Z
UID:10007969-1754132400-1754136000@online-erlebnis.net
SUMMARY:Eltern lernen\, ihre Kinder zu verstehen 🌞
DESCRIPTION:💫 Eltern lernen\, Kinder zu verstehen \nFür eine starke Bindung\, echte Kommunikation & gesunde Entwicklung \nWir sind:\n👩‍🏫 Manuela – Mentale Fitness Trainerin für starke Kinder & Impulsgeberin für ganzheitliche Gesundheit\n👩‍⚕️ Kirsten – Gesundheitspädagogin\, Eltern- & Kind-Coach\, Expertin für Laut – Gebärdensprache (Babyzeichensprache) \, Kindersport & Entspannung für Groß und Klein \nUnsere gemeinsame Mission: \nWir begleiten Eltern dabei\, ihre Kinder wieder wirklich zu verstehen – mit Herz\, Klarheit und einem ganzheitlichen Blick. \nDenn echte Verbindung entsteht nicht durch Erziehung von oben\, sondern durch bewusste Kommunikation\, Achtsamkeit und ein tiefes Verständnis füreinander.\nNur wenn wir als Eltern die Bedürfnisse\, Gefühle und Ausdrucksweisen unserer Kinder erkennen\, können wir ihnen den sicheren Raum geben\, in dem sie wachsen\, sich entfalten und vertrauen können. \n🔸 Starke Bindung statt ständiger Konflikt\n🔸 Klarheit im Umgang mit kindlichen Bedürfnissen\n🔸 Kommunikation auf Augenhöhe – von Herz zu Herz\n🔸 Ganzheitliche Impulse für Körper\, Geist & Seele \nLasst uns gemeinsam Brücken bauen – zwischen den Generationen\, zwischen Kopf und Herz\, zwischen Eltern und Kind. \nzum Wikshop geht es hier https://us06web.zoom.us/j/82121074244?pwd=oS6cH5yySEfBIa3fb2bdgUKn3yQ1mx.1
URL:https://online-erlebnis.net/kalender/eltern-lernen-ihre-kinder-zu-verstehen-%f0%9f%8c%9e/2025-08-02/
CATEGORIES:Kinder zu verstehen 🌞
ATTACH;FMTTYPE=image/png:https://online-erlebnis.net/wp-content/uploads/2025/07/Eltern-lernen-1600-x-900-px.png
END:VEVENT
END:VCALENDAR